BEGIN:VCALENDAR
VERSION:2.0
PRODID:-//Washington Conservatory of Music - ECPv6.15.20//NONSGML v1.0//EN
CALSCALE:GREGORIAN
METHOD:PUBLISH
X-WR-CALNAME:Washington Conservatory of Music
X-ORIGINAL-URL:https://washingtonconservatory.org
X-WR-CALDESC:Events for Washington Conservatory of Music
REFRESH-INTERVAL;VALUE=DURATION:PT1H
X-Robots-Tag:noindex
X-PUBLISHED-TTL:PT1H
BEGIN:VTIMEZONE
TZID:America/New_York
BEGIN:DAYLIGHT
TZOFFSETFROM:-0500
TZOFFSETTO:-0400
TZNAME:EDT
DTSTART:20250309T070000
END:DAYLIGHT
BEGIN:STANDARD
TZOFFSETFROM:-0400
TZOFFSETTO:-0500
TZNAME:EST
DTSTART:20251102T060000
END:STANDARD
BEGIN:DAYLIGHT
TZOFFSETFROM:-0500
TZOFFSETTO:-0400
TZNAME:EDT
DTSTART:20260308T070000
END:DAYLIGHT
BEGIN:STANDARD
TZOFFSETFROM:-0400
TZOFFSETTO:-0500
TZNAME:EST
DTSTART:20261101T060000
END:STANDARD
BEGIN:DAYLIGHT
TZOFFSETFROM:-0500
TZOFFSETTO:-0400
TZNAME:EDT
DTSTART:20270314T070000
END:DAYLIGHT
BEGIN:STANDARD
TZOFFSETFROM:-0400
TZOFFSETTO:-0500
TZNAME:EST
DTSTART:20271107T060000
END:STANDARD
END:VTIMEZONE
BEGIN:VEVENT
DTSTART;TZID=America/New_York:20260215T150000
DTEND;TZID=America/New_York:20260215T150000
DTSTAMP:20260425T070822
CREATED:20251125T200619Z
LAST-MODIFIED:20260217T152303Z
UID:18249-1771167600-1771167600@washingtonconservatory.org
SUMMARY:Accord Symphony Orchestra: Black History Month Concert
DESCRIPTION:Join us for an inspiring and dynamic concert with our talented musicians for this Black History Month observance\, where we will honor the power of music in our community. This concert features the Accord Symphony Orchestra\, Maestro Julien Benichou\, and Assistant Conductor Gloria Yin. View the concert program here. 								\n				\n					Featured Soloist				\n		\n				\n																														\n				\n									Internationally renowned concert pianist Christie Julien made her solo debut with the National Symphony Orchestra playing Bartok’s Concerto no.3 under Maestro Leonard Slatkin at the Kennedy Center. She recently performed with Eduardo Marturet and the Miami Symphony Orchestra\, Rachmaninoff’s Rhapsody on a theme of Paganini\, and toured China\, Japan\, South America\, and Europe to great public and media acclaim. As an avid chamber musician\, Ms. Julien regularly participates at some prestigious music festivals including Salzburg\, Santa Fe\, La Jola\, Ravinia and Great Lakes. She is a regular jury member of the International piano competitions including Margarita Long in Paris. Christie studied piano with the legendary pianist and pedagogue Leon Fleischer at Peabody Conservatory and obtained a prestigious “Artist Diploma”. In addition\, she holds Yamaha and Lavoisier scholarships awarded by the French government and multiple prizes in solo piano and chamber music. Julien entered at the age 14 the Conservatoire National Superior de Musique de Paris and was awarded first prizes in both solo and chamber music. To learn more about Christie\, visit christiejulien.com. 								\n				\n		\n				\n																														\n				\n									Soprano Simone Ballinger-Brown has lived most of her life in Silver Spring\, Maryland. She received her Bachelor of Arts in Vocal Performance from Xavier University of Louisiana and her Master of Music in Voice from Peabody Conservatory under the tutelage of Denyce Graves and Margaret Baroody. She has performed Leontyne in The Anonymous Lover\, Musetta in La Bohème\, Monica in The Medium\, Frasquita in Carmen\, and Pamina in Die Zauberflöte. Simone runs and performs for her business Black Princess Parties DMV. Simone is the Program Associate at the Washington Conservatory of Music.
URL:https://washingtonconservatory.org/event/accord-symphony-orchestra-concert-black-history-month/
LOCATION:St. Columba’s Episcopal Church\, 4201 Albemarle St NW\, Washington\, DC\, 20016
CATEGORIES:Accord Symphony Orchestra,Community Engagement,Concerts,Performance Series,Special Events
ATTACH;FMTTYPE=image/png:https://washingtonconservatory.org/wp-content/uploads/2025/11/ACSO-BHM-Concert-2026-with-features.png
END:VEVENT
END:VCALENDAR