BEGIN:VCALENDAR
VERSION:2.0
PRODID:-//Washington Conservatory of Music - ECPv6.15.20//NONSGML v1.0//EN
CALSCALE:GREGORIAN
METHOD:PUBLISH
X-WR-CALNAME:Washington Conservatory of Music
X-ORIGINAL-URL:https://washingtonconservatory.org
X-WR-CALDESC:Events for Washington Conservatory of Music
REFRESH-INTERVAL;VALUE=DURATION:PT1H
X-Robots-Tag:noindex
X-PUBLISHED-TTL:PT1H
BEGIN:VTIMEZONE
TZID:America/New_York
BEGIN:DAYLIGHT
TZOFFSETFROM:-0500
TZOFFSETTO:-0400
TZNAME:EDT
DTSTART:20240310T070000
END:DAYLIGHT
BEGIN:STANDARD
TZOFFSETFROM:-0400
TZOFFSETTO:-0500
TZNAME:EST
DTSTART:20241103T060000
END:STANDARD
BEGIN:DAYLIGHT
TZOFFSETFROM:-0500
TZOFFSETTO:-0400
TZNAME:EDT
DTSTART:20250309T070000
END:DAYLIGHT
BEGIN:STANDARD
TZOFFSETFROM:-0400
TZOFFSETTO:-0500
TZNAME:EST
DTSTART:20251102T060000
END:STANDARD
BEGIN:DAYLIGHT
TZOFFSETFROM:-0500
TZOFFSETTO:-0400
TZNAME:EDT
DTSTART:20260308T070000
END:DAYLIGHT
BEGIN:STANDARD
TZOFFSETFROM:-0400
TZOFFSETTO:-0500
TZNAME:EST
DTSTART:20261101T060000
END:STANDARD
END:VTIMEZONE
BEGIN:VEVENT
DTSTART;TZID=America/New_York:20251206T170000
DTEND;TZID=America/New_York:20251206T193000
DTSTAMP:20260422T042049
CREATED:20251125T200526Z
LAST-MODIFIED:20251204T173753Z
UID:18228-1765040400-1765049400@washingtonconservatory.org
SUMMARY:Accord Symphony Orchestra  Holiday Concert  featuring Handel’s Messiah and Corelli’s Christmas Concerto
DESCRIPTION:RSVP\n					\n					\n								\n				\n									Join the Washington Conservatory of Music for a festive and powerful evening of music featuring Accord Symphony and Choir\, under the baton of conductor Julien Benichou\, with guest soloists\, Nazrin Azlan Alymann\, Rhianna Cockrell\, Kelly Curtin\, and Jude Reagan. This year’s end-of-year program brings together the brilliance of the holiday season with Handel’s Messiah\, Corelli’s Christmas Concerto\, topped with a holiday medley. Following the performance\, guests are invited to a brief reception at 6:30 PM to celebrate our students\, families\, and community partners who have made this year extraordinary. This event is free and open to the public\, though advance registration is requested 								\n				\n										\n						\n									RSVP
URL:https://washingtonconservatory.org/event/accord-symphony-orchestra-holiday-concert-and-reception/
LOCATION:St. Columba’s Episcopal Church\, 4201 Albemarle St NW\, Washington\, DC\, 20016
CATEGORIES:Accord Symphony Orchestra,Community Engagement,Concerts,Special Events
ATTACH;FMTTYPE=image/png:https://washingtonconservatory.org/wp-content/uploads/2025/11/ACSO-Holiday-2025-V2.png
END:VEVENT
END:VCALENDAR