BEGIN:VCALENDAR
VERSION:2.0
PRODID:-//Washington Conservatory of Music - ECPv6.15.20//NONSGML v1.0//EN
CALSCALE:GREGORIAN
METHOD:PUBLISH
X-WR-CALNAME:Washington Conservatory of Music
X-ORIGINAL-URL:https://washingtonconservatory.org
X-WR-CALDESC:Events for Washington Conservatory of Music
REFRESH-INTERVAL;VALUE=DURATION:PT1H
X-Robots-Tag:noindex
X-PUBLISHED-TTL:PT1H
BEGIN:VTIMEZONE
TZID:America/New_York
BEGIN:DAYLIGHT
TZOFFSETFROM:-0500
TZOFFSETTO:-0400
TZNAME:EDT
DTSTART:20250309T070000
END:DAYLIGHT
BEGIN:STANDARD
TZOFFSETFROM:-0400
TZOFFSETTO:-0500
TZNAME:EST
DTSTART:20251102T060000
END:STANDARD
BEGIN:DAYLIGHT
TZOFFSETFROM:-0500
TZOFFSETTO:-0400
TZNAME:EDT
DTSTART:20260308T070000
END:DAYLIGHT
BEGIN:STANDARD
TZOFFSETFROM:-0400
TZOFFSETTO:-0500
TZNAME:EST
DTSTART:20261101T060000
END:STANDARD
BEGIN:DAYLIGHT
TZOFFSETFROM:-0500
TZOFFSETTO:-0400
TZNAME:EDT
DTSTART:20270314T070000
END:DAYLIGHT
BEGIN:STANDARD
TZOFFSETFROM:-0400
TZOFFSETTO:-0500
TZNAME:EST
DTSTART:20271107T060000
END:STANDARD
END:VTIMEZONE
BEGIN:VEVENT
DTSTART;TZID=America/New_York:20260117T100000
DTEND;TZID=America/New_York:20260117T113000
DTSTAMP:20260424T135915
CREATED:20251125T200557Z
LAST-MODIFIED:20260108T180706Z
UID:18241-1768644000-1768649400@washingtonconservatory.org
SUMMARY:WCM Violin Masterclass: Hal Grossman
DESCRIPTION:Get Tickets\n					\n					\n								\n				\n									\n\n\n\n\n\nLearn from the Violin Master\, Hal Grossman\, as he teaches local violinists on a range of levels. Currently\, Mr. Grossman is Associate Professor of Violin at The University of Oregon\, Artistic Director of the Northwest Music Retreat\, and serves on the violin faculties of the Aria International Summer Academy and the Marrowstone Music Festival. He was formerly on the violin faculty at the Interlochen Center for the Arts\, Miami University\, and the University of Oklahoma. Mr. Grossman’s students can be found in the New York Philharmonic\, National Symphony\, Detroit Symphony\, Louisville Orchestra\, and in every major music conservatory in the nation\, including Curtis\, Juilliard\, New England\, and San Francisco.\n\n\nMr. Grossman is the founder of The Grossman Method©\, a course of study addressing musicians’ health issues. The Method is a unique teaching system that addresses musicians’ health and performance issues within the applied lesson structure. Including a confluence of Yoga\, Feldenkrais Method\, and Alexander Technique\, The Grossman Method has an international presence and has been used by leading performing artists. The Grossman Method was nominated for Outstanding Achievement in String Pedagogy by the American String Teachers Association in 2018.He will present his workshop ‘No Pain\, All Gain’ on Monday\, January 19th from 10:00 to 11:30 am EST. We invite you to register before all available slots are filled.\n\n\n\n\n\n\nRESOURCES:\nhttps://halgrossman.com/\n\nCost: $20 Audience Member (non-WCM students)\nCost: $10 Audience Member (WCM students)\n\n\n\n\n\n\n								\n				\n										\n						\n									Get Tickets
URL:https://washingtonconservatory.org/event/wcm-violin-masterclass-hal-grossman/
LOCATION:North Chevy Chase Christian Church\, 8814 Kensington Parkway\, Chevy Chase\, MD\, 20815
CATEGORIES:Chamber Music Coaching for Pre-Formed Ensembles,Concerts,Special Events
ATTACH;FMTTYPE=image/png:https://washingtonconservatory.org/wp-content/uploads/2025/11/Hal-Grossman-Masterclass-2.png
END:VEVENT
END:VCALENDAR