BEGIN:VCALENDAR
VERSION:2.0
PRODID:-//Washington Conservatory of Music - ECPv6.15.20//NONSGML v1.0//EN
CALSCALE:GREGORIAN
METHOD:PUBLISH
X-ORIGINAL-URL:https://washingtonconservatory.org
X-WR-CALDESC:Events for Washington Conservatory of Music
REFRESH-INTERVAL;VALUE=DURATION:PT1H
X-Robots-Tag:noindex
X-PUBLISHED-TTL:PT1H
BEGIN:VTIMEZONE
TZID:America/New_York
BEGIN:DAYLIGHT
TZOFFSETFROM:-0500
TZOFFSETTO:-0400
TZNAME:EDT
DTSTART:20240310T070000
END:DAYLIGHT
BEGIN:STANDARD
TZOFFSETFROM:-0400
TZOFFSETTO:-0500
TZNAME:EST
DTSTART:20241103T060000
END:STANDARD
BEGIN:DAYLIGHT
TZOFFSETFROM:-0500
TZOFFSETTO:-0400
TZNAME:EDT
DTSTART:20250309T070000
END:DAYLIGHT
BEGIN:STANDARD
TZOFFSETFROM:-0400
TZOFFSETTO:-0500
TZNAME:EST
DTSTART:20251102T060000
END:STANDARD
BEGIN:DAYLIGHT
TZOFFSETFROM:-0500
TZOFFSETTO:-0400
TZNAME:EDT
DTSTART:20260308T070000
END:DAYLIGHT
BEGIN:STANDARD
TZOFFSETFROM:-0400
TZOFFSETTO:-0500
TZNAME:EST
DTSTART:20261101T060000
END:STANDARD
END:VTIMEZONE
BEGIN:VEVENT
DTSTART;TZID=America/New_York:20251207T140000
DTEND;TZID=America/New_York:20251207T150000
DTSTAMP:20260422T063922
CREATED:20250910T034013Z
LAST-MODIFIED:20250910T034013Z
UID:17997-1765116000-1765119600@washingtonconservatory.org
SUMMARY:Suzuki Flute Class ALL LEVELS
DESCRIPTION:Donate & Reserve\n					\n					\n								\n				\n									Featuring winners of the Accord Symphony Orchestra and Chesapeake Youth Symphony Orchestra Concerto CompetitionsExperience an extraordinary evening of music as two leading regional ensembles—the Washington Conservatory of Music’s Accord Symphony Orchestra (AcSO) and the Chesapeake Youth Symphony Orchestra (CYSO)—come together to celebrate the exceptional next generation of classical musicians. This special collaborative performance showcases outstanding soloists who have earned top honors through highly competitive concerto competitions\, performing with full orchestra in a powerful and inspiring program. Audiences will enjoy a dynamic selection of beloved masterworks\, including: Dvořák – Cello Concerto (Movement I) Featuring AcSO Winner\, cellist Valerie LaiBeethoven – Piano Concerto No. 1 (Movement I) Featuring AcSO Winner\, pianist Megan LaiSaint-Saëns – Cello Concerto (Movement I) Featuring CYSO Winner\, cellist Mattias van AndelThe evening culminates in a full orchestral performance of Tchaikovsky’s Symphony No. 5\, one of the most emotionally powerful works in the classical repertoire. This concert represents a unique opportunity to witness rising artists alongside two accomplished orchestras in a shared celebration of musical excellence\, collaboration\, and artistic achievement. TicketsSuggested donations start at $10 or pay what you can. 								\n				\n										\n						\n									Donate & Reserve
URL:https://washingtonconservatory.org/event/suzuki-flute-class-all-levels-2/
LOCATION:MD
CATEGORIES:Suzuki Academy
END:VEVENT
BEGIN:VEVENT
DTSTART;TZID=America/New_York:20251207T170000
DTEND;TZID=America/New_York:20251207T170000
DTSTAMP:20260422T063922
CREATED:20251122T023525Z
LAST-MODIFIED:20251122T024311Z
UID:18213-1765126800-1765126800@washingtonconservatory.org
SUMMARY:Washington Conservatory Orchestra Live in Concert
DESCRIPTION:Donate & Reserve\n					\n					\n								\n				\n									Featuring winners of the Accord Symphony Orchestra and Chesapeake Youth Symphony Orchestra Concerto CompetitionsExperience an extraordinary evening of music as two leading regional ensembles—the Washington Conservatory of Music’s Accord Symphony Orchestra (AcSO) and the Chesapeake Youth Symphony Orchestra (CYSO)—come together to celebrate the exceptional next generation of classical musicians. This special collaborative performance showcases outstanding soloists who have earned top honors through highly competitive concerto competitions\, performing with full orchestra in a powerful and inspiring program. Audiences will enjoy a dynamic selection of beloved masterworks\, including: Dvořák – Cello Concerto (Movement I) Featuring AcSO Winner\, cellist Valerie LaiBeethoven – Piano Concerto No. 1 (Movement I) Featuring AcSO Winner\, pianist Megan LaiSaint-Saëns – Cello Concerto (Movement I) Featuring CYSO Winner\, cellist Mattias van AndelThe evening culminates in a full orchestral performance of Tchaikovsky’s Symphony No. 5\, one of the most emotionally powerful works in the classical repertoire. This concert represents a unique opportunity to witness rising artists alongside two accomplished orchestras in a shared celebration of musical excellence\, collaboration\, and artistic achievement. TicketsSuggested donations start at $10 or pay what you can. 								\n				\n										\n						\n									Donate & Reserve
URL:https://washingtonconservatory.org/event/washington-conservatory-orchestra-live-in-concert/
LOCATION:North Chevy Chase Christian Church\, 8814 Kensington Parkway\, Chevy Chase\, MD\, 20815
CATEGORIES:Concerts,Special Events,Washington Conservatory Orchestra
ATTACH;FMTTYPE=image/png:https://washingtonconservatory.org/wp-content/uploads/2025/11/WCO-Winter-Concert-2025v2.png
END:VEVENT
BEGIN:VEVENT
DTSTART;TZID=America/New_York:20251207T170000
DTEND;TZID=America/New_York:20251207T190000
DTSTAMP:20260422T063922
CREATED:20251125T200531Z
LAST-MODIFIED:20260106T213912Z
UID:18230-1765126800-1765134000@washingtonconservatory.org
SUMMARY:Washington Conservatory Orchestra Concert
DESCRIPTION:Donate & Reserve\n					\n					\n								\n				\n									Featuring winners of the Accord Symphony Orchestra and Chesapeake Youth Symphony Orchestra Concerto CompetitionsExperience an extraordinary evening of music as two leading regional ensembles—the Washington Conservatory of Music’s Accord Symphony Orchestra (AcSO) and the Chesapeake Youth Symphony Orchestra (CYSO)—come together to celebrate the exceptional next generation of classical musicians. This special collaborative performance showcases outstanding soloists who have earned top honors through highly competitive concerto competitions\, performing with full orchestra in a powerful and inspiring program. Audiences will enjoy a dynamic selection of beloved masterworks\, including: Dvořák – Cello Concerto (Movement I) Featuring AcSO Winner\, cellist Valerie LaiBeethoven – Piano Concerto No. 1 (Movement I) Featuring AcSO Winner\, pianist Megan LaiSaint-Saëns – Cello Concerto (Movement I) Featuring CYSO Winner\, cellist Mattias van AndelThe evening culminates in a full orchestral performance of Tchaikovsky’s Symphony No. 5\, one of the most emotionally powerful works in the classical repertoire. This concert represents a unique opportunity to witness rising artists alongside two accomplished orchestras in a shared celebration of musical excellence\, collaboration\, and artistic achievement. TicketsSuggested donations start at $10 or pay what you can. 								\n				\n										\n						\n									Donate & Reserve
URL:https://washingtonconservatory.org/event/washington-conservatory-orchestra-concert/
LOCATION:North Chevy Chase Christian Church (Disciples of Christ)\, 8814 Kensington Pkwy\, Chevy Chase\, MD\, United States
CATEGORIES:Concerts
END:VEVENT
END:VCALENDAR