BEGIN:VCALENDAR
VERSION:2.0
PRODID:-//Washington Conservatory of Music - ECPv6.15.20//NONSGML v1.0//EN
CALSCALE:GREGORIAN
METHOD:PUBLISH
X-WR-CALNAME:Washington Conservatory of Music
X-ORIGINAL-URL:https://washingtonconservatory.org
X-WR-CALDESC:Events for Washington Conservatory of Music
REFRESH-INTERVAL;VALUE=DURATION:PT1H
X-Robots-Tag:noindex
X-PUBLISHED-TTL:PT1H
BEGIN:VTIMEZONE
TZID:America/New_York
BEGIN:DAYLIGHT
TZOFFSETFROM:-0500
TZOFFSETTO:-0400
TZNAME:EDT
DTSTART:20250309T070000
END:DAYLIGHT
BEGIN:STANDARD
TZOFFSETFROM:-0400
TZOFFSETTO:-0500
TZNAME:EST
DTSTART:20251102T060000
END:STANDARD
BEGIN:DAYLIGHT
TZOFFSETFROM:-0500
TZOFFSETTO:-0400
TZNAME:EDT
DTSTART:20260308T070000
END:DAYLIGHT
BEGIN:STANDARD
TZOFFSETFROM:-0400
TZOFFSETTO:-0500
TZNAME:EST
DTSTART:20261101T060000
END:STANDARD
BEGIN:DAYLIGHT
TZOFFSETFROM:-0500
TZOFFSETTO:-0400
TZNAME:EDT
DTSTART:20270314T070000
END:DAYLIGHT
BEGIN:STANDARD
TZOFFSETFROM:-0400
TZOFFSETTO:-0500
TZNAME:EST
DTSTART:20271107T060000
END:STANDARD
END:VTIMEZONE
BEGIN:VEVENT
DTSTART;TZID=America/New_York:20260201T140000
DTEND;TZID=America/New_York:20260201T150000
DTSTAMP:20260420T173306
CREATED:20250910T034039Z
LAST-MODIFIED:20250910T034039Z
UID:18000-1769954400-1769958000@washingtonconservatory.org
SUMMARY:Suzuki Flute Class Book 2+
DESCRIPTION:
URL:https://washingtonconservatory.org/event/suzuki-flute-class-book-2-7/
CATEGORIES:Suzuki Academy
END:VEVENT
BEGIN:VEVENT
DTSTART;TZID=America/New_York:20260201T140000
DTEND;TZID=America/New_York:20260201T153000
DTSTAMP:20260420T173306
CREATED:20251125T200609Z
LAST-MODIFIED:20260121T194106Z
UID:18245-1769954400-1769959800@washingtonconservatory.org
SUMMARY:Masterclass with Pianist and Pedagogue Mayron Tsong
DESCRIPTION:Get Tickets\n					\n														\n									Get Tickets\n					 \nWe are pleased to welcome internationally acclaimed pianist and University of Maryland professor\, Mayron Tsong\, for a special masterclass with selected Washington Conservatory students. \nThis masterclass provides students with the opportunity to receive expert coaching\, refine their interpretation\, and expand their performance experience under the guidance of a distinguished artist. \nMasterclass Details\nDate: Sunday\, February 1\, 2026Time: 2:00 PMLocation: WCM Recital Room \nStudents Performing: \n\nConor Kelley: Prelude from Pour Piano by C. Debussy\nAvery Haseley: The Maiden’s wish by F. Liszt\nJoshua Yeo: Hungarian Rhapsody no.11 by F. Liszt\n\n  \nFor Teachers \nIf you have a student who would be a strong fit for this masterclass\, please submit the following information to WCM Piano Department Chair Jaewon Lee. \n\nStudent name\nRepertoire piece
URL:https://washingtonconservatory.org/event/masterclass-pianist-mayron-tsong/
LOCATION:Glen Echo Park\, 7370 Macarthur Blvd\, Bethesda\, MD\, United States
CATEGORIES:Concerts,Masterclass,Special Events
ATTACH;FMTTYPE=image/png:https://washingtonconservatory.org/wp-content/uploads/2025/11/Mayron-Tsong-Masterclass.png
END:VEVENT
BEGIN:VEVENT
DTSTART;TZID=America/New_York:20260201T150000
DTEND;TZID=America/New_York:20260201T160000
DTSTAMP:20260420T173306
CREATED:20250910T034041Z
LAST-MODIFIED:20250910T034041Z
UID:18001-1769958000-1769961600@washingtonconservatory.org
SUMMARY:Suzuki Flute Class Book 1
DESCRIPTION:
URL:https://washingtonconservatory.org/event/suzuki-flute-class-book-1-7/
CATEGORIES:Suzuki Academy
END:VEVENT
END:VCALENDAR