BEGIN:VCALENDAR
VERSION:2.0
PRODID:-//Washington Conservatory of Music - ECPv6.15.20//NONSGML v1.0//EN
CALSCALE:GREGORIAN
METHOD:PUBLISH
X-ORIGINAL-URL:https://washingtonconservatory.org
X-WR-CALDESC:Events for Washington Conservatory of Music
REFRESH-INTERVAL;VALUE=DURATION:PT1H
X-Robots-Tag:noindex
X-PUBLISHED-TTL:PT1H
BEGIN:VTIMEZONE
TZID:America/New_York
BEGIN:DAYLIGHT
TZOFFSETFROM:-0500
TZOFFSETTO:-0400
TZNAME:EDT
DTSTART:20250309T070000
END:DAYLIGHT
BEGIN:STANDARD
TZOFFSETFROM:-0400
TZOFFSETTO:-0500
TZNAME:EST
DTSTART:20251102T060000
END:STANDARD
BEGIN:DAYLIGHT
TZOFFSETFROM:-0500
TZOFFSETTO:-0400
TZNAME:EDT
DTSTART:20260308T070000
END:DAYLIGHT
BEGIN:STANDARD
TZOFFSETFROM:-0400
TZOFFSETTO:-0500
TZNAME:EST
DTSTART:20261101T060000
END:STANDARD
BEGIN:DAYLIGHT
TZOFFSETFROM:-0500
TZOFFSETTO:-0400
TZNAME:EDT
DTSTART:20270314T070000
END:DAYLIGHT
BEGIN:STANDARD
TZOFFSETFROM:-0400
TZOFFSETTO:-0500
TZNAME:EST
DTSTART:20271107T060000
END:STANDARD
END:VTIMEZONE
BEGIN:VEVENT
DTSTART;VALUE=DATE:20260406
DTEND;VALUE=DATE:20260407
DTSTAMP:20260422T080148
CREATED:20250906T030949Z
LAST-MODIFIED:20250908T142736Z
UID:17938-1775433600-1775519999@washingtonconservatory.org
SUMMARY:No Group Class- Spring Break (Private lessons still scheduled regularly!)
DESCRIPTION:Donate & Reserve\n					\n					\n								\n				\n									Featuring winners of the Accord Symphony Orchestra and Chesapeake Youth Symphony Orchestra Concerto CompetitionsExperience an extraordinary evening of music as two leading regional ensembles—the Washington Conservatory of Music’s Accord Symphony Orchestra (AcSO) and the Chesapeake Youth Symphony Orchestra (CYSO)—come together to celebrate the exceptional next generation of classical musicians. This special collaborative performance showcases outstanding soloists who have earned top honors through highly competitive concerto competitions\, performing with full orchestra in a powerful and inspiring program. Audiences will enjoy a dynamic selection of beloved masterworks\, including: Dvořák – Cello Concerto (Movement I) Featuring AcSO Winner\, cellist Valerie LaiBeethoven – Piano Concerto No. 1 (Movement I) Featuring AcSO Winner\, pianist Megan LaiSaint-Saëns – Cello Concerto (Movement I) Featuring CYSO Winner\, cellist Mattias van AndelThe evening culminates in a full orchestral performance of Tchaikovsky’s Symphony No. 5\, one of the most emotionally powerful works in the classical repertoire. This concert represents a unique opportunity to witness rising artists alongside two accomplished orchestras in a shared celebration of musical excellence\, collaboration\, and artistic achievement. TicketsSuggested donations start at $10 or pay what you can. 								\n				\n										\n						\n									Donate & Reserve
URL:https://washingtonconservatory.org/event/no-group-class-spring-break-private-lessons-still-scheduled-regularly-2/
LOCATION:MD
CATEGORIES:Classes,Suzuki Academy
END:VEVENT
END:VCALENDAR