BEGIN:VCALENDAR
VERSION:2.0
PRODID:-//Washington Conservatory of Music - ECPv6.15.20//NONSGML v1.0//EN
CALSCALE:GREGORIAN
METHOD:PUBLISH
X-ORIGINAL-URL:https://washingtonconservatory.org
X-WR-CALDESC:Events for Washington Conservatory of Music
REFRESH-INTERVAL;VALUE=DURATION:PT1H
X-Robots-Tag:noindex
X-PUBLISHED-TTL:PT1H
BEGIN:VTIMEZONE
TZID:America/New_York
BEGIN:DAYLIGHT
TZOFFSETFROM:-0500
TZOFFSETTO:-0400
TZNAME:EDT
DTSTART:20230312T070000
END:DAYLIGHT
BEGIN:STANDARD
TZOFFSETFROM:-0400
TZOFFSETTO:-0500
TZNAME:EST
DTSTART:20231105T060000
END:STANDARD
BEGIN:DAYLIGHT
TZOFFSETFROM:-0500
TZOFFSETTO:-0400
TZNAME:EDT
DTSTART:20240310T070000
END:DAYLIGHT
BEGIN:STANDARD
TZOFFSETFROM:-0400
TZOFFSETTO:-0500
TZNAME:EST
DTSTART:20241103T060000
END:STANDARD
BEGIN:DAYLIGHT
TZOFFSETFROM:-0500
TZOFFSETTO:-0400
TZNAME:EDT
DTSTART:20250309T070000
END:DAYLIGHT
BEGIN:STANDARD
TZOFFSETFROM:-0400
TZOFFSETTO:-0500
TZNAME:EST
DTSTART:20251102T060000
END:STANDARD
BEGIN:DAYLIGHT
TZOFFSETFROM:-0500
TZOFFSETTO:-0400
TZNAME:EDT
DTSTART:20260308T070000
END:DAYLIGHT
BEGIN:STANDARD
TZOFFSETFROM:-0400
TZOFFSETTO:-0500
TZNAME:EST
DTSTART:20261101T060000
END:STANDARD
BEGIN:DAYLIGHT
TZOFFSETFROM:-0500
TZOFFSETTO:-0400
TZNAME:EDT
DTSTART:20270314T070000
END:DAYLIGHT
BEGIN:STANDARD
TZOFFSETFROM:-0400
TZOFFSETTO:-0500
TZNAME:EST
DTSTART:20271107T060000
END:STANDARD
END:VTIMEZONE
BEGIN:VEVENT
DTSTART;TZID=America/New_York:20260310T190000
DTEND;TZID=America/New_York:20260310T190000
DTSTAMP:20260420T050146
CREATED:20260220T172945Z
LAST-MODIFIED:20260224T204958Z
UID:18569-1773169200-1773169200@washingtonconservatory.org
SUMMARY:Women’s History Month Recital featuring Audrey Andrist\, piano\, and Laura Colgate\, violin
DESCRIPTION:Join the Washington Conservatory of Music for a distinguished evening of performance in celebration of Women’s History Month. WCM Faculty artist Audrey Andrist\, piano\, and National Philharmonic Concertmaster Laura Colgate\, violin\, present a thoughtfully curated recital honoring the legacy\, artistry\, and influence of women in classical music. Through works of depth and brilliance\, this program celebrates the voices that have shaped and continue to shape the classical tradition. A reception will follow the performance. Reserve your seat today. 								\n				\n										\n						\n						\n							\n									Get Tickets
URL:https://washingtonconservatory.org/event/womens-history-month2026/
LOCATION:Episcopal Church of the Redeemer\, 6201 Dunrobbin Dr\, Bethesda\, MD\, 20816
CATEGORIES:Community Engagement,Concerts,Performance Series,Recital Series,Special Events
ATTACH;FMTTYPE=image/png:https://washingtonconservatory.org/wp-content/uploads/2026/02/WCM-Womens-History-Month-2026-v4.png
END:VEVENT
BEGIN:VEVENT
DTSTART;TZID=America/New_York:20260215T150000
DTEND;TZID=America/New_York:20260215T150000
DTSTAMP:20260420T050146
CREATED:20251125T200619Z
LAST-MODIFIED:20260217T152303Z
UID:18249-1771167600-1771167600@washingtonconservatory.org
SUMMARY:Accord Symphony Orchestra: Black History Month Concert
DESCRIPTION:Join the Washington Conservatory of Music for a distinguished evening of performance in celebration of Women’s History Month. WCM Faculty artist Audrey Andrist\, piano\, and National Philharmonic Concertmaster Laura Colgate\, violin\, present a thoughtfully curated recital honoring the legacy\, artistry\, and influence of women in classical music. Through works of depth and brilliance\, this program celebrates the voices that have shaped and continue to shape the classical tradition. A reception will follow the performance. Reserve your seat today. 								\n				\n										\n						\n						\n							\n									Get Tickets
URL:https://washingtonconservatory.org/event/accord-symphony-orchestra-concert-black-history-month/
LOCATION:St. Columba’s Episcopal Church\, 4201 Albemarle St NW\, Washington\, DC\, 20016
CATEGORIES:Accord Symphony Orchestra,Community Engagement,Concerts,Performance Series,Special Events
ATTACH;FMTTYPE=image/png:https://washingtonconservatory.org/wp-content/uploads/2025/11/ACSO-BHM-Concert-2026-with-features.png
END:VEVENT
BEGIN:VEVENT
DTSTART;TZID=America/New_York:20260131T150000
DTEND;TZID=America/New_York:20260131T170000
DTSTAMP:20260420T050146
CREATED:20260116T171448Z
LAST-MODIFIED:20260120T194241Z
UID:18439-1769871600-1769878800@washingtonconservatory.org
SUMMARY:Suzuki Day
DESCRIPTION:Join the Washington Conservatory of Music for a distinguished evening of performance in celebration of Women’s History Month. WCM Faculty artist Audrey Andrist\, piano\, and National Philharmonic Concertmaster Laura Colgate\, violin\, present a thoughtfully curated recital honoring the legacy\, artistry\, and influence of women in classical music. Through works of depth and brilliance\, this program celebrates the voices that have shaped and continue to shape the classical tradition. A reception will follow the performance. Reserve your seat today. 								\n				\n										\n						\n						\n							\n									Get Tickets
URL:https://washingtonconservatory.org/event/suzuki-day/
LOCATION:Washington Conservatory of Music\, 7370 Macarthur Blvd\, Bethesda\, MD\, United States
CATEGORIES:Community Engagement,Special Events,Student Recitals,Suzuki Academy,Workshops
ATTACH;FMTTYPE=image/png:https://washingtonconservatory.org/wp-content/uploads/2026/01/Suzuki-Dayv2-1312026.png
END:VEVENT
BEGIN:VEVENT
DTSTART;TZID=America/New_York:20251206T170000
DTEND;TZID=America/New_York:20251206T193000
DTSTAMP:20260420T050146
CREATED:20251125T200526Z
LAST-MODIFIED:20251204T173753Z
UID:18228-1765040400-1765049400@washingtonconservatory.org
SUMMARY:Accord Symphony Orchestra  Holiday Concert  featuring Handel’s Messiah and Corelli’s Christmas Concerto
DESCRIPTION:Join the Washington Conservatory of Music for a distinguished evening of performance in celebration of Women’s History Month. WCM Faculty artist Audrey Andrist\, piano\, and National Philharmonic Concertmaster Laura Colgate\, violin\, present a thoughtfully curated recital honoring the legacy\, artistry\, and influence of women in classical music. Through works of depth and brilliance\, this program celebrates the voices that have shaped and continue to shape the classical tradition. A reception will follow the performance. Reserve your seat today. 								\n				\n										\n						\n						\n							\n									Get Tickets
URL:https://washingtonconservatory.org/event/accord-symphony-orchestra-holiday-concert-and-reception/
LOCATION:St. Columba’s Episcopal Church\, 4201 Albemarle St NW\, Washington\, DC\, 20016
CATEGORIES:Accord Symphony Orchestra,Community Engagement,Concerts,Special Events
ATTACH;FMTTYPE=image/png:https://washingtonconservatory.org/wp-content/uploads/2025/11/ACSO-Holiday-2025-V2.png
END:VEVENT
BEGIN:VEVENT
DTSTART;VALUE=DATE:20251124
DTEND;VALUE=DATE:20251125
DTSTAMP:20260420T050146
CREATED:20250906T030905Z
LAST-MODIFIED:20251107T143505Z
UID:17911-1763942400-1764028799@washingtonconservatory.org
SUMMARY:No Group Class- Thanksgiving Break
DESCRIPTION:Join the Washington Conservatory of Music for a distinguished evening of performance in celebration of Women’s History Month. WCM Faculty artist Audrey Andrist\, piano\, and National Philharmonic Concertmaster Laura Colgate\, violin\, present a thoughtfully curated recital honoring the legacy\, artistry\, and influence of women in classical music. Through works of depth and brilliance\, this program celebrates the voices that have shaped and continue to shape the classical tradition. A reception will follow the performance. Reserve your seat today. 								\n				\n										\n						\n						\n							\n									Get Tickets
URL:https://washingtonconservatory.org/event/no-group-class-thanksgiving-break/
LOCATION:MD
CATEGORIES:Camps,Classes,Community Engagement,Concerts,Group Lessons,Performance Series,Suzuki Academy
END:VEVENT
BEGIN:VEVENT
DTSTART;TZID=America/New_York:20251123T150000
DTEND;TZID=America/New_York:20251123T160000
DTSTAMP:20260420T050146
CREATED:20251107T144555Z
LAST-MODIFIED:20251107T184357Z
UID:18173-1763910000-1763913600@washingtonconservatory.org
SUMMARY:Songs of Romania: A Celebration of Romanian Classical Music
DESCRIPTION:Join the Washington Conservatory of Music for a distinguished evening of performance in celebration of Women’s History Month. WCM Faculty artist Audrey Andrist\, piano\, and National Philharmonic Concertmaster Laura Colgate\, violin\, present a thoughtfully curated recital honoring the legacy\, artistry\, and influence of women in classical music. Through works of depth and brilliance\, this program celebrates the voices that have shaped and continue to shape the classical tradition. A reception will follow the performance. Reserve your seat today. 								\n				\n										\n						\n						\n							\n									Get Tickets
URL:https://washingtonconservatory.org/event/songs-of-romania/
LOCATION:St. Dunstan’s Episcopal Church\, 5450 Massachusetts Avenue\, Bethesda\, MD\, 20016
CATEGORIES:Community Engagement,Concerts,Special Events
ATTACH;FMTTYPE=image/jpeg:https://washingtonconservatory.org/wp-content/uploads/2025/11/2-scaled.jpg
END:VEVENT
BEGIN:VEVENT
DTSTART;TZID=America/New_York:20251123T150000
DTEND;TZID=America/New_York:20251123T160000
DTSTAMP:20260420T050146
CREATED:20251021T152933Z
LAST-MODIFIED:20251021T153517Z
UID:18134-1763910000-1763913600@washingtonconservatory.org
SUMMARY:"R & R" Thomas Hecht Piano Recital featuring works by Ravel & Rachmaninoff
DESCRIPTION:Join the Washington Conservatory of Music for a distinguished evening of performance in celebration of Women’s History Month. WCM Faculty artist Audrey Andrist\, piano\, and National Philharmonic Concertmaster Laura Colgate\, violin\, present a thoughtfully curated recital honoring the legacy\, artistry\, and influence of women in classical music. Through works of depth and brilliance\, this program celebrates the voices that have shaped and continue to shape the classical tradition. A reception will follow the performance. Reserve your seat today. 								\n				\n										\n						\n						\n							\n									Get Tickets
URL:https://washingtonconservatory.org/event/randrthomashecht/
LOCATION:Washington Conservatory of Music Campus at Glen Echo Park\, 7300 Macarthur Blvd\, Bethesda\, MD\, United States
CATEGORIES:Community Engagement,Concerts,Special Events
ATTACH;FMTTYPE=image/png:https://washingtonconservatory.org/wp-content/uploads/2025/10/Thomas-Hecht-1123.png
END:VEVENT
BEGIN:VEVENT
DTSTART;TZID=America/New_York:20251117T183000
DTEND;TZID=America/New_York:20251117T200000
DTSTAMP:20260420T050146
CREATED:20251106T000249Z
LAST-MODIFIED:20251106T001949Z
UID:18166-1763404200-1763409600@washingtonconservatory.org
SUMMARY:WCM Appreciation Recital & Special Announcement
DESCRIPTION:Join the Washington Conservatory of Music for a distinguished evening of performance in celebration of Women’s History Month. WCM Faculty artist Audrey Andrist\, piano\, and National Philharmonic Concertmaster Laura Colgate\, violin\, present a thoughtfully curated recital honoring the legacy\, artistry\, and influence of women in classical music. Through works of depth and brilliance\, this program celebrates the voices that have shaped and continue to shape the classical tradition. A reception will follow the performance. Reserve your seat today. 								\n				\n										\n						\n						\n							\n									Get Tickets
URL:https://washingtonconservatory.org/event/wcm-appreciation-recital-special-announcement/
LOCATION:Embassy of France\, 4101 Reservoir Road NW\, Washington\, DC
CATEGORIES:Community Engagement,Concerts,Ensembles,Special Events
ATTACH;FMTTYPE=image/png:https://washingtonconservatory.org/wp-content/uploads/2025/11/General-Invite-1-1.png
END:VEVENT
BEGIN:VEVENT
DTSTART;TZID=America/New_York:20251116T160000
DTEND;TZID=America/New_York:20251116T170000
DTSTAMP:20260420T050146
CREATED:20251016T171424Z
LAST-MODIFIED:20251016T174127Z
UID:18117-1763308800-1763312400@washingtonconservatory.org
SUMMARY:Capital Horns Fall Concert
DESCRIPTION:Join the Washington Conservatory of Music for a distinguished evening of performance in celebration of Women’s History Month. WCM Faculty artist Audrey Andrist\, piano\, and National Philharmonic Concertmaster Laura Colgate\, violin\, present a thoughtfully curated recital honoring the legacy\, artistry\, and influence of women in classical music. Through works of depth and brilliance\, this program celebrates the voices that have shaped and continue to shape the classical tradition. A reception will follow the performance. Reserve your seat today. 								\n				\n										\n						\n						\n							\n									Get Tickets
URL:https://washingtonconservatory.org/event/capital-horns-fall-concert/
LOCATION:Church of the Resurrection\, 3315 Greencastle Rd\, Burtonsville\, MD
CATEGORIES:Community Engagement,Concerts,Special Events,Washington Conservatory Capital Horns
ATTACH;FMTTYPE=image/png:https://washingtonconservatory.org/wp-content/uploads/2025/10/Capital-Horns-1142025-1.png
END:VEVENT
BEGIN:VEVENT
DTSTART;TZID=America/New_York:20251025T130000
DTEND;TZID=America/New_York:20251025T160000
DTSTAMP:20260420T050146
CREATED:20250910T165346Z
LAST-MODIFIED:20250911T042737Z
UID:17720-1761397200-1761408000@washingtonconservatory.org
SUMMARY:Fall Frolic & Open House at Washington Conservatory of Music
DESCRIPTION:Join the Washington Conservatory of Music for a distinguished evening of performance in celebration of Women’s History Month. WCM Faculty artist Audrey Andrist\, piano\, and National Philharmonic Concertmaster Laura Colgate\, violin\, present a thoughtfully curated recital honoring the legacy\, artistry\, and influence of women in classical music. Through works of depth and brilliance\, this program celebrates the voices that have shaped and continue to shape the classical tradition. A reception will follow the performance. Reserve your seat today. 								\n				\n										\n						\n						\n							\n									Get Tickets
URL:https://washingtonconservatory.org/event/fall-frolic-2025/
LOCATION:Washington Conservatory of Music Campus at Glen Echo Park\, 7300 Macarthur Blvd\, Bethesda\, MD\, United States
CATEGORIES:Community Engagement,Concerts,Special Events,Student Recitals,Suzuki Academy,Washington Conservatory Orchestra
ATTACH;FMTTYPE=image/png:https://washingtonconservatory.org/wp-content/uploads/2025/09/Fall-Frolic-Open-House2.png
END:VEVENT
BEGIN:VEVENT
DTSTART;TZID=America/New_York:20250928T130000
DTEND;TZID=America/New_York:20250928T134500
DTSTAMP:20260420T050146
CREATED:20250828T155545Z
LAST-MODIFIED:20250905T183828Z
UID:17840-1759064400-1759067100@washingtonconservatory.org
SUMMARY:Celebrating Hispanic Heritage Month at Echo Arts Festival with Ernesto Lima Parets
DESCRIPTION:Join the Washington Conservatory of Music for a distinguished evening of performance in celebration of Women’s History Month. WCM Faculty artist Audrey Andrist\, piano\, and National Philharmonic Concertmaster Laura Colgate\, violin\, present a thoughtfully curated recital honoring the legacy\, artistry\, and influence of women in classical music. Through works of depth and brilliance\, this program celebrates the voices that have shaped and continue to shape the classical tradition. A reception will follow the performance. Reserve your seat today. 								\n				\n										\n						\n						\n							\n									Get Tickets
URL:https://washingtonconservatory.org/event/hispanic-heritage-month-echo-arts-festival/
LOCATION:Washington Conservatory of Music Campus at Glen Echo Park\, 7300 Macarthur Blvd\, Bethesda\, MD\, United States
CATEGORIES:Community Engagement,Concerts,Special Events,Workshops
ATTACH;FMTTYPE=image/png:https://washingtonconservatory.org/wp-content/uploads/2025/08/Hispanic-Heritage-Month-928-revised.png
END:VEVENT
BEGIN:VEVENT
DTSTART;TZID=America/New_York:20250823T130000
DTEND;TZID=America/New_York:20250823T160000
DTSTAMP:20260420T050146
CREATED:20250728T223949Z
LAST-MODIFIED:20250807T163048Z
UID:17690-1755954000-1755964800@washingtonconservatory.org
SUMMARY:Open House at Glen Echo Park
DESCRIPTION:Join the Washington Conservatory of Music for a distinguished evening of performance in celebration of Women’s History Month. WCM Faculty artist Audrey Andrist\, piano\, and National Philharmonic Concertmaster Laura Colgate\, violin\, present a thoughtfully curated recital honoring the legacy\, artistry\, and influence of women in classical music. Through works of depth and brilliance\, this program celebrates the voices that have shaped and continue to shape the classical tradition. A reception will follow the performance. Reserve your seat today. 								\n				\n										\n						\n						\n							\n									Get Tickets
URL:https://washingtonconservatory.org/event/open-house/
LOCATION:Washington Conservatory of Music Campus at Glen Echo Park\, 7300 Macarthur Blvd\, Bethesda\, MD\, United States
CATEGORIES:Camps,Classes,Community Engagement,Concerts,Special Events,Workshops
ATTACH;FMTTYPE=image/png:https://washingtonconservatory.org/wp-content/uploads/2025/07/WCM-Print-Flyers.png
END:VEVENT
BEGIN:VEVENT
DTSTART;TZID=America/New_York:20250718T170000
DTEND;TZID=America/New_York:20250718T200000
DTSTAMP:20260420T050147
CREATED:20250707T221049Z
LAST-MODIFIED:20250714T182713Z
UID:17621-1752858000-1752868800@washingtonconservatory.org
SUMMARY:Washington Conservatory Jazz Players at the Lotus and Water Lily Festival
DESCRIPTION:Join the Washington Conservatory of Music for a distinguished evening of performance in celebration of Women’s History Month. WCM Faculty artist Audrey Andrist\, piano\, and National Philharmonic Concertmaster Laura Colgate\, violin\, present a thoughtfully curated recital honoring the legacy\, artistry\, and influence of women in classical music. Through works of depth and brilliance\, this program celebrates the voices that have shaped and continue to shape the classical tradition. A reception will follow the performance. Reserve your seat today. 								\n				\n										\n						\n						\n							\n									Get Tickets
URL:https://washingtonconservatory.org/event/wcjp-lotus-festival/
LOCATION:Kenilworth Aquatic Gardens\, 1550 Anacostia Ave NE\, DC\, 20019
CATEGORIES:Community Engagement,Concerts,Performance Series,Special Events,WC Jazz Players
ATTACH;FMTTYPE=image/png:https://washingtonconservatory.org/wp-content/uploads/2025/07/WCJP-@-Lotus-Water-Lily-Fes2t.png
END:VEVENT
BEGIN:VEVENT
DTSTART;TZID=America/New_York:20250628T140000
DTEND;TZID=America/New_York:20250628T150000
DTSTAMP:20260420T050147
CREATED:20250515T152045Z
LAST-MODIFIED:20250613T181613Z
UID:17331-1751119200-1751122800@washingtonconservatory.org
SUMMARY:Meet the Flute & Introduction to the Suzuki Method
DESCRIPTION:Join the Washington Conservatory of Music for a distinguished evening of performance in celebration of Women’s History Month. WCM Faculty artist Audrey Andrist\, piano\, and National Philharmonic Concertmaster Laura Colgate\, violin\, present a thoughtfully curated recital honoring the legacy\, artistry\, and influence of women in classical music. Through works of depth and brilliance\, this program celebrates the voices that have shaped and continue to shape the classical tradition. A reception will follow the performance. Reserve your seat today. 								\n				\n										\n						\n						\n							\n									Get Tickets
URL:https://washingtonconservatory.org/event/meet-the-flute/
LOCATION:Washington Conservatory of Music Campus at Glen Echo Park\, 7300 Macarthur Blvd\, Bethesda\, MD\, United States
CATEGORIES:Classes,Community Engagement,Flute,Special Events,Suzuki Academy,Workshops
ATTACH;FMTTYPE=image/png:https://washingtonconservatory.org/wp-content/uploads/2025/05/Meet-the-Flute-051425-FINAL.png
END:VEVENT
BEGIN:VEVENT
DTSTART;TZID=America/New_York:20250624T174500
DTEND;TZID=America/New_York:20250624T194500
DTSTAMP:20260420T050147
CREATED:20250611T162206Z
LAST-MODIFIED:20250611T163205Z
UID:17426-1750787100-1750794300@washingtonconservatory.org
SUMMARY:Harmonies of Liberty Concert and Salon Conversation with Andrew Lee
DESCRIPTION:Join the Washington Conservatory of Music for a distinguished evening of performance in celebration of Women’s History Month. WCM Faculty artist Audrey Andrist\, piano\, and National Philharmonic Concertmaster Laura Colgate\, violin\, present a thoughtfully curated recital honoring the legacy\, artistry\, and influence of women in classical music. Through works of depth and brilliance\, this program celebrates the voices that have shaped and continue to shape the classical tradition. A reception will follow the performance. Reserve your seat today. 								\n				\n										\n						\n						\n							\n									Get Tickets
URL:https://washingtonconservatory.org/event/harmonies-of-liberty/
LOCATION:West End Neighborhood Library\, 2301 L Street Northwest\, Washington\, DC\, 20037
CATEGORIES:Accord Symphony Orchestra,Community Engagement,Concerts,Special Events,Workshops
ATTACH;FMTTYPE=image/jpeg:https://washingtonconservatory.org/wp-content/uploads/2025/06/TUESFacebookWEEHarmoniesOfLiberty-1.jpg
END:VEVENT
BEGIN:VEVENT
DTSTART;VALUE=DATE:20250606
DTEND;VALUE=DATE:20250607
DTSTAMP:20260420T050147
CREATED:20250519T172242Z
LAST-MODIFIED:20250613T172644Z
UID:16361-1749168000-1749254399@washingtonconservatory.org
SUMMARY:WCM 40th Anniversary Celebration Concert
DESCRIPTION:Join the Washington Conservatory of Music for a distinguished evening of performance in celebration of Women’s History Month. WCM Faculty artist Audrey Andrist\, piano\, and National Philharmonic Concertmaster Laura Colgate\, violin\, present a thoughtfully curated recital honoring the legacy\, artistry\, and influence of women in classical music. Through works of depth and brilliance\, this program celebrates the voices that have shaped and continue to shape the classical tradition. A reception will follow the performance. Reserve your seat today. 								\n				\n										\n						\n						\n							\n									Get Tickets
URL:https://washingtonconservatory.org/event/40th-celebration/
LOCATION:Katzen Arts Center\, American University\, 4400 Massachusetts Ave. NW\, Washington\, MD\, 20016
CATEGORIES:Accord Symphony Orchestra,Chamber Music Coaching for Pre-Formed Ensembles,Community Engagement,Concerts,Suzuki Academy,Washington Conservatory Capital Horns,Washington Conservatory Orchestra
ATTACH;FMTTYPE=image/jpeg:https://washingtonconservatory.org/wp-content/uploads/2025/04/WCM-Gala_flyer_IG-invite.jpg
END:VEVENT
BEGIN:VEVENT
DTSTART;TZID=America/New_York:20250502T193000
DTEND;TZID=America/New_York:20250502T203000
DTSTAMP:20260420T050147
CREATED:20250428T144053Z
LAST-MODIFIED:20250613T172731Z
UID:17255-1746214200-1746217800@washingtonconservatory.org
SUMMARY:Echoes of Longing – An Evening with the Accord Chamber Players
DESCRIPTION:Join the Washington Conservatory of Music for a distinguished evening of performance in celebration of Women’s History Month. WCM Faculty artist Audrey Andrist\, piano\, and National Philharmonic Concertmaster Laura Colgate\, violin\, present a thoughtfully curated recital honoring the legacy\, artistry\, and influence of women in classical music. Through works of depth and brilliance\, this program celebrates the voices that have shaped and continue to shape the classical tradition. A reception will follow the performance. Reserve your seat today. 								\n				\n										\n						\n						\n							\n									Get Tickets
URL:https://washingtonconservatory.org/event/echoes-of-longing/
LOCATION:Takoma Park Community Center Auditorium\, 7500 Maple Ave a\, Takoma Park\, MD\, 20912
CATEGORIES:Accord Symphony Orchestra,Community Engagement,Concerts
ATTACH;FMTTYPE=image/png:https://washingtonconservatory.org/wp-content/uploads/2025/04/TPAS-Poster.png
END:VEVENT
BEGIN:VEVENT
DTSTART;TZID=America/New_York:20250502T190000
DTEND;TZID=America/New_York:20250502T190000
DTSTAMP:20260420T050147
CREATED:20250411T183753Z
LAST-MODIFIED:20250613T172755Z
UID:17182-1746212400-1746212400@washingtonconservatory.org
SUMMARY:WCM Jazz Trio in Concert  Glen Echo  Park Art Walk
DESCRIPTION:Join the Washington Conservatory of Music for a distinguished evening of performance in celebration of Women’s History Month. WCM Faculty artist Audrey Andrist\, piano\, and National Philharmonic Concertmaster Laura Colgate\, violin\, present a thoughtfully curated recital honoring the legacy\, artistry\, and influence of women in classical music. Through works of depth and brilliance\, this program celebrates the voices that have shaped and continue to shape the classical tradition. A reception will follow the performance. Reserve your seat today. 								\n				\n										\n						\n						\n							\n									Get Tickets
URL:https://washingtonconservatory.org/event/wcm-jazz-trio-in-concert-glen-echo-park-art-walk/
LOCATION:Washington Conservatory of Music Campus at Glen Echo Park\, 7300 Macarthur Blvd\, Bethesda\, MD\, United States
CATEGORIES:Community Engagement,Concerts
ATTACH;FMTTYPE=image/png:https://washingtonconservatory.org/wp-content/uploads/2025/04/05022025-Art-Walk-Post-.png
END:VEVENT
BEGIN:VEVENT
DTSTART;TZID=America/New_York:20250425T000000
DTEND;TZID=America/New_York:20250427T000000
DTSTAMP:20260420T050147
CREATED:20250224T142819Z
LAST-MODIFIED:20250224T185201Z
UID:16459-1745539200-1745712000@washingtonconservatory.org
SUMMARY:Chamber Music Academy: Chamber Music Workshop
DESCRIPTION:Join the Washington Conservatory of Music for a distinguished evening of performance in celebration of Women’s History Month. WCM Faculty artist Audrey Andrist\, piano\, and National Philharmonic Concertmaster Laura Colgate\, violin\, present a thoughtfully curated recital honoring the legacy\, artistry\, and influence of women in classical music. Through works of depth and brilliance\, this program celebrates the voices that have shaped and continue to shape the classical tradition. A reception will follow the performance. Reserve your seat today. 								\n				\n										\n						\n						\n							\n									Get Tickets
URL:https://washingtonconservatory.org/event/chamber-music-academy-chamber-music-workshop/
LOCATION:Washington Conservatory of Music Campus at Glen Echo Park\, 7300 Macarthur Blvd\, Bethesda\, MD\, United States
CATEGORIES:Chamber Music Coaching for Pre-Formed Ensembles,Community Engagement,Special Events
ATTACH;FMTTYPE=image/png:https://washingtonconservatory.org/wp-content/uploads/2025/02/Chamber-Music-Academy-Workshop.png
END:VEVENT
BEGIN:VEVENT
DTSTART;TZID=America/New_York:20250320T190000
DTEND;TZID=America/New_York:20250320T190000
DTSTAMP:20260420T050147
CREATED:20250313T231715Z
LAST-MODIFIED:20250313T231919Z
UID:16907-1742497200-1742497200@washingtonconservatory.org
SUMMARY:Concert Series: Women’s History Month featuring Sandy Choi (violin) and Dr. Elizabeth Hill (piano)
DESCRIPTION:Join the Washington Conservatory of Music for a distinguished evening of performance in celebration of Women’s History Month. WCM Faculty artist Audrey Andrist\, piano\, and National Philharmonic Concertmaster Laura Colgate\, violin\, present a thoughtfully curated recital honoring the legacy\, artistry\, and influence of women in classical music. Through works of depth and brilliance\, this program celebrates the voices that have shaped and continue to shape the classical tradition. A reception will follow the performance. Reserve your seat today. 								\n				\n										\n						\n						\n							\n									Get Tickets
URL:https://washingtonconservatory.org/event/womens-history-month/
LOCATION:Cleveland Park Congregational United Church of Christ\, 3400 Lowell St NW\, Washington\, DC\, 20016
CATEGORIES:Community Engagement,Concerts
ATTACH;FMTTYPE=image/png:https://washingtonconservatory.org/wp-content/uploads/2025/03/320-WHM-Post.png
END:VEVENT
BEGIN:VEVENT
DTSTART;TZID=America/New_York:20241220T173000
DTEND;TZID=America/New_York:20241220T213000
DTSTAMP:20260420T050147
CREATED:20241217T200508Z
LAST-MODIFIED:20241218T135609Z
UID:15837-1734715800-1734730200@washingtonconservatory.org
SUMMARY:Parents’ Night Out
DESCRIPTION:Join the Washington Conservatory of Music for a distinguished evening of performance in celebration of Women’s History Month. WCM Faculty artist Audrey Andrist\, piano\, and National Philharmonic Concertmaster Laura Colgate\, violin\, present a thoughtfully curated recital honoring the legacy\, artistry\, and influence of women in classical music. Through works of depth and brilliance\, this program celebrates the voices that have shaped and continue to shape the classical tradition. A reception will follow the performance. Reserve your seat today. 								\n				\n										\n						\n						\n							\n									Get Tickets
URL:https://washingtonconservatory.org/event/parents-night-out/
LOCATION:MD
CATEGORIES:Community Engagement,Special Events
ATTACH;FMTTYPE=image/webp:https://washingtonconservatory.org/wp-content/uploads/2024/12/WCM-Parents-Night-Out-2024.webp
END:VEVENT
END:VCALENDAR