BEGIN:VCALENDAR
VERSION:2.0
PRODID:-//Washington Conservatory of Music - ECPv6.15.20//NONSGML v1.0//EN
CALSCALE:GREGORIAN
METHOD:PUBLISH
X-WR-CALNAME:Washington Conservatory of Music
X-ORIGINAL-URL:https://washingtonconservatory.org
X-WR-CALDESC:Events for Washington Conservatory of Music
REFRESH-INTERVAL;VALUE=DURATION:PT1H
X-Robots-Tag:noindex
X-PUBLISHED-TTL:PT1H
BEGIN:VTIMEZONE
TZID:America/New_York
BEGIN:DAYLIGHT
TZOFFSETFROM:-0500
TZOFFSETTO:-0400
TZNAME:EDT
DTSTART:20250309T070000
END:DAYLIGHT
BEGIN:STANDARD
TZOFFSETFROM:-0400
TZOFFSETTO:-0500
TZNAME:EST
DTSTART:20251102T060000
END:STANDARD
BEGIN:DAYLIGHT
TZOFFSETFROM:-0500
TZOFFSETTO:-0400
TZNAME:EDT
DTSTART:20260308T070000
END:DAYLIGHT
BEGIN:STANDARD
TZOFFSETFROM:-0400
TZOFFSETTO:-0500
TZNAME:EST
DTSTART:20261101T060000
END:STANDARD
BEGIN:DAYLIGHT
TZOFFSETFROM:-0500
TZOFFSETTO:-0400
TZNAME:EDT
DTSTART:20270314T070000
END:DAYLIGHT
BEGIN:STANDARD
TZOFFSETFROM:-0400
TZOFFSETTO:-0500
TZNAME:EST
DTSTART:20271107T060000
END:STANDARD
END:VTIMEZONE
BEGIN:VEVENT
DTSTART;TZID=America/New_York:20260425T190000
DTEND;TZID=America/New_York:20260425T190000
DTSTAMP:20260420T051152
CREATED:20250225T200640Z
LAST-MODIFIED:20260318T191044Z
UID:18257-1777143600-1777143600@washingtonconservatory.org
SUMMARY:Faculty Chamber Music Series: Kevin Jang and Dominic Muzzi
DESCRIPTION:Get Tickets\n					\n					\n								\n				\n									Join internationally acclaimed pianist Chengcheng Yao for an unforgettable solo recital honoring the 150th anniversary of French composer Maurice Ravel. Known for her poetic expression and virtuosic clarity\, Yao brings Ravel’s genius to life with a program that showcases the composer’s rich textures\, emotional nuance\, and Impressionist brilliance. 								\n					\n				\n		\n					\n				\n										\n						\n									Get Tickets
URL:https://washingtonconservatory.org/event/faculty-performance-series-kevin-jang-and-dominic-muzzi/
LOCATION:The Episcopal Church of the Redeemer\, 6203 Dunrobbin Dr\, Bethesda\, MD\, United States
CATEGORIES:Concerts,Recital Series,Special Events
ATTACH;FMTTYPE=image/png:https://washingtonconservatory.org/wp-content/uploads/2025/02/FCMS-Kevin-and-Dominic-revised-2-scaled.png
END:VEVENT
END:VCALENDAR