BEGIN:VCALENDAR
VERSION:2.0
PRODID:-//Washington Conservatory of Music - ECPv6.15.20//NONSGML v1.0//EN
CALSCALE:GREGORIAN
METHOD:PUBLISH
X-ORIGINAL-URL:https://washingtonconservatory.org
X-WR-CALDESC:Events for Washington Conservatory of Music
REFRESH-INTERVAL;VALUE=DURATION:PT1H
X-Robots-Tag:noindex
X-PUBLISHED-TTL:PT1H
BEGIN:VTIMEZONE
TZID:America/New_York
BEGIN:DAYLIGHT
TZOFFSETFROM:-0500
TZOFFSETTO:-0400
TZNAME:EDT
DTSTART:20250309T070000
END:DAYLIGHT
BEGIN:STANDARD
TZOFFSETFROM:-0400
TZOFFSETTO:-0500
TZNAME:EST
DTSTART:20251102T060000
END:STANDARD
BEGIN:DAYLIGHT
TZOFFSETFROM:-0500
TZOFFSETTO:-0400
TZNAME:EDT
DTSTART:20260308T070000
END:DAYLIGHT
BEGIN:STANDARD
TZOFFSETFROM:-0400
TZOFFSETTO:-0500
TZNAME:EST
DTSTART:20261101T060000
END:STANDARD
BEGIN:DAYLIGHT
TZOFFSETFROM:-0500
TZOFFSETTO:-0400
TZNAME:EDT
DTSTART:20270314T070000
END:DAYLIGHT
BEGIN:STANDARD
TZOFFSETFROM:-0400
TZOFFSETTO:-0500
TZNAME:EST
DTSTART:20271107T060000
END:STANDARD
END:VTIMEZONE
BEGIN:VEVENT
DTSTART;VALUE=DATE:20260424
DTEND;VALUE=DATE:20260427
DTSTAMP:20260422T052850
CREATED:20260215T200642Z
LAST-MODIFIED:20260414T223757Z
UID:18258-1776988800-1777247999@washingtonconservatory.org
SUMMARY:Chamber Music Weekend - Spring Session
DESCRIPTION:Reserve Your Seat\n					\n					\n								\n				\n									Join us for a powerful afternoon of chamber music with the acclaimed Pressenda Chamber Players\, performing masterworks by Gabriel Fauré and Robert Schumann. This concert will feature two of the most expressive piano quartets in the Romantic repertoire\, brought to life by four renowned musicians. Program Includes: Fauré – Piano Quartet in C minor\, Op. 15Schumann – Piano Quartet in E-flat Major\, Op. 47 Performers: Aaron Berofsky\, violinKathryn Votapek\, violaTobias Werner\, celloCharles Berofsky\, piano About the Artists: Pressenda Chamber Players\, the Washington Conservatory Ensemble in Residence\, is a chamber music ensemble of strings\, piano\, and guest artists\, named for Giovanni Pressenda (1777-1854)\, maker of the instruments played by Founder\, Artistic Director\, and cellist Tobias Werner and violinist Aaron Berofsky. The Pressenda Chamber Players perform works of all eras for duos\, trios\, quartets\, quintets\, sextets\, and octets and is comprised of world-class musicians from throughout the United States. Tickets: General Admission – Free with suggested donationReserve your seat on Eventbrite or RSVP at the door. Seating is limited. 								\n				\n										\n						\n									Reserve Your Seat
URL:https://washingtonconservatory.org/event/chamber-music-weekend/
LOCATION:DC
CATEGORIES:Chamber Music Coaching for Pre-Formed Ensembles,Concerts,Masterclass,Special Events,Workshops
ATTACH;FMTTYPE=image/png:https://washingtonconservatory.org/wp-content/uploads/2025/11/CMA-Spring-2026-Workshop.png
END:VEVENT
BEGIN:VEVENT
DTSTART;TZID=America/New_York:20260425T190000
DTEND;TZID=America/New_York:20260425T190000
DTSTAMP:20260422T052850
CREATED:20250225T200640Z
LAST-MODIFIED:20260318T191044Z
UID:18257-1777143600-1777143600@washingtonconservatory.org
SUMMARY:Faculty Chamber Music Series: Kevin Jang and Dominic Muzzi
DESCRIPTION:Reserve Your Seat\n					\n					\n								\n				\n									Join us for a powerful afternoon of chamber music with the acclaimed Pressenda Chamber Players\, performing masterworks by Gabriel Fauré and Robert Schumann. This concert will feature two of the most expressive piano quartets in the Romantic repertoire\, brought to life by four renowned musicians. Program Includes: Fauré – Piano Quartet in C minor\, Op. 15Schumann – Piano Quartet in E-flat Major\, Op. 47 Performers: Aaron Berofsky\, violinKathryn Votapek\, violaTobias Werner\, celloCharles Berofsky\, piano About the Artists: Pressenda Chamber Players\, the Washington Conservatory Ensemble in Residence\, is a chamber music ensemble of strings\, piano\, and guest artists\, named for Giovanni Pressenda (1777-1854)\, maker of the instruments played by Founder\, Artistic Director\, and cellist Tobias Werner and violinist Aaron Berofsky. The Pressenda Chamber Players perform works of all eras for duos\, trios\, quartets\, quintets\, sextets\, and octets and is comprised of world-class musicians from throughout the United States. Tickets: General Admission – Free with suggested donationReserve your seat on Eventbrite or RSVP at the door. Seating is limited. 								\n				\n										\n						\n									Reserve Your Seat
URL:https://washingtonconservatory.org/event/faculty-performance-series-kevin-jang-and-dominic-muzzi/
LOCATION:The Episcopal Church of the Redeemer\, 6203 Dunrobbin Dr\, Bethesda\, MD\, United States
CATEGORIES:Concerts,Recital Series,Special Events
ATTACH;FMTTYPE=image/png:https://washingtonconservatory.org/wp-content/uploads/2025/02/FCMS-Kevin-and-Dominic-revised-2-scaled.png
END:VEVENT
BEGIN:VEVENT
DTSTART;TZID=America/New_York:20260516T193000
DTEND;TZID=America/New_York:20260516T193000
DTSTAMP:20260422T052850
CREATED:20260421T201831Z
LAST-MODIFIED:20260421T203215Z
UID:18765-1778959800-1778959800@washingtonconservatory.org
SUMMARY:Concerto Competition Winners Concert
DESCRIPTION:Reserve Your Seat\n					\n					\n								\n				\n									Join us for a powerful afternoon of chamber music with the acclaimed Pressenda Chamber Players\, performing masterworks by Gabriel Fauré and Robert Schumann. This concert will feature two of the most expressive piano quartets in the Romantic repertoire\, brought to life by four renowned musicians. Program Includes: Fauré – Piano Quartet in C minor\, Op. 15Schumann – Piano Quartet in E-flat Major\, Op. 47 Performers: Aaron Berofsky\, violinKathryn Votapek\, violaTobias Werner\, celloCharles Berofsky\, piano About the Artists: Pressenda Chamber Players\, the Washington Conservatory Ensemble in Residence\, is a chamber music ensemble of strings\, piano\, and guest artists\, named for Giovanni Pressenda (1777-1854)\, maker of the instruments played by Founder\, Artistic Director\, and cellist Tobias Werner and violinist Aaron Berofsky. The Pressenda Chamber Players perform works of all eras for duos\, trios\, quartets\, quintets\, sextets\, and octets and is comprised of world-class musicians from throughout the United States. Tickets: General Admission – Free with suggested donationReserve your seat on Eventbrite or RSVP at the door. Seating is limited. 								\n				\n										\n						\n									Reserve Your Seat
URL:https://washingtonconservatory.org/event/concerto-competition-winners-concert/
LOCATION:Annapolis Area Christian School – High School Campus\, 109 Burns Crossing Rd\, Severn\, MD\, 21144
CATEGORIES:Accord Symphony Orchestra,Concerts,Recital Series,Special Events
ATTACH;FMTTYPE=image/png:https://washingtonconservatory.org/wp-content/uploads/2026/04/2026-Concerto-Winners-Concerto-v4.png
END:VEVENT
BEGIN:VEVENT
DTSTART;TZID=America/New_York:20260607T170000
DTEND;TZID=America/New_York:20260607T180000
DTSTAMP:20260422T052850
CREATED:20251125T200700Z
LAST-MODIFIED:20260421T220050Z
UID:18266-1780851600-1780855200@washingtonconservatory.org
SUMMARY:Washington Conservatory Orchestra 30th Anniversary Concert
DESCRIPTION:Reserve Your Seat\n					\n					\n								\n				\n									Join us for a powerful afternoon of chamber music with the acclaimed Pressenda Chamber Players\, performing masterworks by Gabriel Fauré and Robert Schumann. This concert will feature two of the most expressive piano quartets in the Romantic repertoire\, brought to life by four renowned musicians. Program Includes: Fauré – Piano Quartet in C minor\, Op. 15Schumann – Piano Quartet in E-flat Major\, Op. 47 Performers: Aaron Berofsky\, violinKathryn Votapek\, violaTobias Werner\, celloCharles Berofsky\, piano About the Artists: Pressenda Chamber Players\, the Washington Conservatory Ensemble in Residence\, is a chamber music ensemble of strings\, piano\, and guest artists\, named for Giovanni Pressenda (1777-1854)\, maker of the instruments played by Founder\, Artistic Director\, and cellist Tobias Werner and violinist Aaron Berofsky. The Pressenda Chamber Players perform works of all eras for duos\, trios\, quartets\, quintets\, sextets\, and octets and is comprised of world-class musicians from throughout the United States. Tickets: General Admission – Free with suggested donationReserve your seat on Eventbrite or RSVP at the door. Seating is limited. 								\n				\n										\n						\n									Reserve Your Seat
URL:https://washingtonconservatory.org/event/wco-30th-anniversary-concert/
LOCATION:North Chevy Chase Christian Church (Disciples of Christ)\, 8814 Kensington Pkwy\, Chevy Chase\, MD\, United States
CATEGORIES:Community Engagement,Concerts,Special Events,Washington Conservatory Orchestra
ATTACH;FMTTYPE=image/png:https://washingtonconservatory.org/wp-content/uploads/2025/11/WCO-30th-Anniversary-Concert-672026pngv3.png
END:VEVENT
END:VCALENDAR