BEGIN:VCALENDAR
VERSION:2.0
PRODID:-//Washington Conservatory of Music - ECPv6.15.20//NONSGML v1.0//EN
CALSCALE:GREGORIAN
METHOD:PUBLISH
X-ORIGINAL-URL:https://washingtonconservatory.org
X-WR-CALDESC:Events for Washington Conservatory of Music
REFRESH-INTERVAL;VALUE=DURATION:PT1H
X-Robots-Tag:noindex
X-PUBLISHED-TTL:PT1H
BEGIN:VTIMEZONE
TZID:America/New_York
BEGIN:DAYLIGHT
TZOFFSETFROM:-0500
TZOFFSETTO:-0400
TZNAME:EDT
DTSTART:20240310T070000
END:DAYLIGHT
BEGIN:STANDARD
TZOFFSETFROM:-0400
TZOFFSETTO:-0500
TZNAME:EST
DTSTART:20241103T060000
END:STANDARD
BEGIN:DAYLIGHT
TZOFFSETFROM:-0500
TZOFFSETTO:-0400
TZNAME:EDT
DTSTART:20250309T070000
END:DAYLIGHT
BEGIN:STANDARD
TZOFFSETFROM:-0400
TZOFFSETTO:-0500
TZNAME:EST
DTSTART:20251102T060000
END:STANDARD
BEGIN:DAYLIGHT
TZOFFSETFROM:-0500
TZOFFSETTO:-0400
TZNAME:EDT
DTSTART:20260308T070000
END:DAYLIGHT
BEGIN:STANDARD
TZOFFSETFROM:-0400
TZOFFSETTO:-0500
TZNAME:EST
DTSTART:20261101T060000
END:STANDARD
END:VTIMEZONE
BEGIN:VEVENT
DTSTART;TZID=America/New_York:20250810T150000
DTEND;TZID=America/New_York:20250810T150000
DTSTAMP:20260424T172829
CREATED:20250707T163527Z
LAST-MODIFIED:20250826T153828Z
UID:17607-1754838000-1754838000@washingtonconservatory.org
SUMMARY:WIPAC: 25th Anniversary Celebration/concerto competition winners
DESCRIPTION:A Standing Ovation at the Embassy of China
URL:https://washingtonconservatory.org/event/wipac-25th-anniversary-celebration-concerto-competition-winners/
LOCATION:Chinese Embassy
CATEGORIES:Concerts,Performance Series,WC Orchestra Players
ATTACH;FMTTYPE=image/jpeg:https://washingtonconservatory.org/wp-content/uploads/2025/08/WCO-A7407573-scaled.jpg
END:VEVENT
BEGIN:VEVENT
DTSTART;TZID=America/New_York:20250817T140000
DTEND;TZID=America/New_York:20250817T150000
DTSTAMP:20260424T172829
CREATED:20241226T212511Z
LAST-MODIFIED:20250422T160540Z
UID:16113-1755439200-1755442800@washingtonconservatory.org
SUMMARY:Monthly Student Recital
DESCRIPTION:
URL:https://washingtonconservatory.org/event/monthly-student-recital-8/
CATEGORIES:Student Recitals
END:VEVENT
END:VCALENDAR