BEGIN:VCALENDAR
VERSION:2.0
PRODID:-//Washington Conservatory of Music - ECPv6.15.20//NONSGML v1.0//EN
CALSCALE:GREGORIAN
METHOD:PUBLISH
X-WR-CALNAME:Washington Conservatory of Music
X-ORIGINAL-URL:https://washingtonconservatory.org
X-WR-CALDESC:Events for Washington Conservatory of Music
REFRESH-INTERVAL;VALUE=DURATION:PT1H
X-Robots-Tag:noindex
X-PUBLISHED-TTL:PT1H
BEGIN:VTIMEZONE
TZID:America/New_York
BEGIN:DAYLIGHT
TZOFFSETFROM:-0500
TZOFFSETTO:-0400
TZNAME:EDT
DTSTART:20230312T070000
END:DAYLIGHT
BEGIN:STANDARD
TZOFFSETFROM:-0400
TZOFFSETTO:-0500
TZNAME:EST
DTSTART:20231105T060000
END:STANDARD
BEGIN:DAYLIGHT
TZOFFSETFROM:-0500
TZOFFSETTO:-0400
TZNAME:EDT
DTSTART:20240310T070000
END:DAYLIGHT
BEGIN:STANDARD
TZOFFSETFROM:-0400
TZOFFSETTO:-0500
TZNAME:EST
DTSTART:20241103T060000
END:STANDARD
BEGIN:DAYLIGHT
TZOFFSETFROM:-0500
TZOFFSETTO:-0400
TZNAME:EDT
DTSTART:20250309T070000
END:DAYLIGHT
BEGIN:STANDARD
TZOFFSETFROM:-0400
TZOFFSETTO:-0500
TZNAME:EST
DTSTART:20251102T060000
END:STANDARD
BEGIN:DAYLIGHT
TZOFFSETFROM:-0500
TZOFFSETTO:-0400
TZNAME:EDT
DTSTART:20260308T070000
END:DAYLIGHT
BEGIN:STANDARD
TZOFFSETFROM:-0400
TZOFFSETTO:-0500
TZNAME:EST
DTSTART:20261101T060000
END:STANDARD
END:VTIMEZONE
BEGIN:VEVENT
DTSTART;TZID=America/New_York:20250109T200000
DTEND;TZID=America/New_York:20250109T210000
DTSTAMP:20260421T094723
CREATED:20241226T205954Z
LAST-MODIFIED:20250106T192101Z
UID:15998-1736452800-1736456400@washingtonconservatory.org
SUMMARY:Continuing Intermediate/Advanced Guitar Class
DESCRIPTION:Get Tickets\n					\n					\n								\n				\n									Join internationally acclaimed pianist Chengcheng Yao for an unforgettable solo recital honoring the 150th anniversary of French composer Maurice Ravel. Known for her poetic expression and virtuosic clarity\, Yao brings Ravel’s genius to life with a program that showcases the composer’s rich textures\, emotional nuance\, and Impressionist brilliance. 								\n					\n				\n		\n					\n				\n										\n						\n									Get Tickets
URL:https://washingtonconservatory.org/event/continuing-intermediate-advanced-guitar-class-2/
LOCATION:Washington Conservatory of Music Campus at Glen Echo Park\, 7300 Macarthur Blvd\, Bethesda\, MD\, United States
CATEGORIES:Classes
END:VEVENT
BEGIN:VEVENT
DTSTART;TZID=America/New_York:20250109T190000
DTEND;TZID=America/New_York:20250109T200000
DTSTAMP:20260421T094723
CREATED:20241226T205954Z
LAST-MODIFIED:20250106T192100Z
UID:15996-1736449200-1736452800@washingtonconservatory.org
SUMMARY:Continuing Intermediate Ukulele Class
DESCRIPTION:Get Tickets\n					\n					\n								\n				\n									Join internationally acclaimed pianist Chengcheng Yao for an unforgettable solo recital honoring the 150th anniversary of French composer Maurice Ravel. Known for her poetic expression and virtuosic clarity\, Yao brings Ravel’s genius to life with a program that showcases the composer’s rich textures\, emotional nuance\, and Impressionist brilliance. 								\n					\n				\n		\n					\n				\n										\n						\n									Get Tickets
URL:https://washingtonconservatory.org/event/continuing-intermediate-ukulele-class-2/
LOCATION:Washington Conservatory of Music Campus at Glen Echo Park\, 7300 Macarthur Blvd\, Bethesda\, MD\, United States
CATEGORIES:Classes
END:VEVENT
BEGIN:VEVENT
DTSTART;TZID=America/New_York:20250109T180000
DTEND;TZID=America/New_York:20250109T190000
DTSTAMP:20260421T094723
CREATED:20241226T205954Z
LAST-MODIFIED:20250106T192059Z
UID:15997-1736445600-1736449200@washingtonconservatory.org
SUMMARY:Continuing Beginning Guitar Class
DESCRIPTION:Get Tickets\n					\n					\n								\n				\n									Join internationally acclaimed pianist Chengcheng Yao for an unforgettable solo recital honoring the 150th anniversary of French composer Maurice Ravel. Known for her poetic expression and virtuosic clarity\, Yao brings Ravel’s genius to life with a program that showcases the composer’s rich textures\, emotional nuance\, and Impressionist brilliance. 								\n					\n				\n		\n					\n				\n										\n						\n									Get Tickets
URL:https://washingtonconservatory.org/event/continuing-beginning-guitar-class-2/
LOCATION:Washington Conservatory of Music Campus at Glen Echo Park\, 7300 Macarthur Blvd\, Bethesda\, MD\, United States
CATEGORIES:Classes
END:VEVENT
BEGIN:VEVENT
DTSTART;TZID=America/New_York:20250109T170000
DTEND;TZID=America/New_York:20250109T180000
DTSTAMP:20260421T094723
CREATED:20241226T205953Z
LAST-MODIFIED:20250106T192059Z
UID:15995-1736442000-1736445600@washingtonconservatory.org
SUMMARY:Continuing Beginning Ukulele Class
DESCRIPTION:Get Tickets\n					\n					\n								\n				\n									Join internationally acclaimed pianist Chengcheng Yao for an unforgettable solo recital honoring the 150th anniversary of French composer Maurice Ravel. Known for her poetic expression and virtuosic clarity\, Yao brings Ravel’s genius to life with a program that showcases the composer’s rich textures\, emotional nuance\, and Impressionist brilliance. 								\n					\n				\n		\n					\n				\n										\n						\n									Get Tickets
URL:https://washingtonconservatory.org/event/continuing-beginning-ukulele-class-2/
LOCATION:Washington Conservatory of Music Campus at Glen Echo Park\, 7300 Macarthur Blvd\, Bethesda\, MD\, United States
CATEGORIES:Classes
END:VEVENT
BEGIN:VEVENT
DTSTART;TZID=America/New_York:20250107T173000
DTEND;TZID=America/New_York:20250107T183000
DTSTAMP:20260421T094723
CREATED:20241226T205953Z
LAST-MODIFIED:20250106T192059Z
UID:15994-1736271000-1736274600@washingtonconservatory.org
SUMMARY:Irish Bodhran Refresher Class
DESCRIPTION:Get Tickets\n					\n					\n								\n				\n									Join internationally acclaimed pianist Chengcheng Yao for an unforgettable solo recital honoring the 150th anniversary of French composer Maurice Ravel. Known for her poetic expression and virtuosic clarity\, Yao brings Ravel’s genius to life with a program that showcases the composer’s rich textures\, emotional nuance\, and Impressionist brilliance. 								\n					\n				\n		\n					\n				\n										\n						\n									Get Tickets
URL:https://washingtonconservatory.org/event/irish-bodhran-refresher-class/
LOCATION:Washington Conservatory of Music Campus at Glen Echo Park\, 7300 Macarthur Blvd\, Bethesda\, MD\, United States
CATEGORIES:Classes
END:VEVENT
BEGIN:VEVENT
DTSTART;TZID=America/New_York:20250106T170000
DTEND;TZID=America/New_York:20250106T180000
DTSTAMP:20260421T094723
CREATED:20250106T194036Z
LAST-MODIFIED:20250106T194437Z
UID:16179-1736182800-1736186400@washingtonconservatory.org
SUMMARY:Violin Group Class- all levels
DESCRIPTION:Get Tickets\n					\n					\n								\n				\n									Join internationally acclaimed pianist Chengcheng Yao for an unforgettable solo recital honoring the 150th anniversary of French composer Maurice Ravel. Known for her poetic expression and virtuosic clarity\, Yao brings Ravel’s genius to life with a program that showcases the composer’s rich textures\, emotional nuance\, and Impressionist brilliance. 								\n					\n				\n		\n					\n				\n										\n						\n									Get Tickets
URL:https://washingtonconservatory.org/event/violin-group-class-all-levels/
LOCATION:MD
CATEGORIES:Suzuki Academy
END:VEVENT
BEGIN:VEVENT
DTSTART;TZID=America/New_York:20250104T110000
DTEND;TZID=America/New_York:20250104T114500
DTSTAMP:20260421T094723
CREATED:20241226T205953Z
LAST-MODIFIED:20241226T205953Z
UID:15993-1735988400-1735991100@washingtonconservatory.org
SUMMARY:Conservatory Kids Levels 1 & 2 Combined Music Class
DESCRIPTION:Get Tickets\n					\n					\n								\n				\n									Join internationally acclaimed pianist Chengcheng Yao for an unforgettable solo recital honoring the 150th anniversary of French composer Maurice Ravel. Known for her poetic expression and virtuosic clarity\, Yao brings Ravel’s genius to life with a program that showcases the composer’s rich textures\, emotional nuance\, and Impressionist brilliance. 								\n					\n				\n		\n					\n				\n										\n						\n									Get Tickets
URL:https://washingtonconservatory.org/event/conservatory-kids-levels-1-2-combined-music-class/
LOCATION:Washington Conservatory of Music Campus at Glen Echo Park\, 7300 Macarthur Blvd\, Bethesda\, MD\, United States
CATEGORIES:Classes
END:VEVENT
BEGIN:VEVENT
DTSTART;TZID=America/New_York:20250104T100000
DTEND;TZID=America/New_York:20250104T104500
DTSTAMP:20260421T094723
CREATED:20241226T205952Z
LAST-MODIFIED:20241226T205952Z
UID:15992-1735984800-1735987500@washingtonconservatory.org
SUMMARY:Conservatory Kids Level 1 Music Class
DESCRIPTION:Get Tickets\n					\n					\n								\n				\n									Join internationally acclaimed pianist Chengcheng Yao for an unforgettable solo recital honoring the 150th anniversary of French composer Maurice Ravel. Known for her poetic expression and virtuosic clarity\, Yao brings Ravel’s genius to life with a program that showcases the composer’s rich textures\, emotional nuance\, and Impressionist brilliance. 								\n					\n				\n		\n					\n				\n										\n						\n									Get Tickets
URL:https://washingtonconservatory.org/event/conservatory-kids-level-1-music-class/
LOCATION:Washington Conservatory of Music Campus at Glen Echo Park\, 7300 Macarthur Blvd\, Bethesda\, MD\, United States
CATEGORIES:Classes
END:VEVENT
BEGIN:VEVENT
DTSTART;TZID=America/New_York:20250102T210000
DTEND;TZID=America/New_York:20250102T220000
DTSTAMP:20260421T094723
CREATED:20241226T205952Z
LAST-MODIFIED:20241226T205952Z
UID:15991-1735851600-1735855200@washingtonconservatory.org
SUMMARY:Continuing Jazz Guitar Class
DESCRIPTION:Get Tickets\n					\n					\n								\n				\n									Join internationally acclaimed pianist Chengcheng Yao for an unforgettable solo recital honoring the 150th anniversary of French composer Maurice Ravel. Known for her poetic expression and virtuosic clarity\, Yao brings Ravel’s genius to life with a program that showcases the composer’s rich textures\, emotional nuance\, and Impressionist brilliance. 								\n					\n				\n		\n					\n				\n										\n						\n									Get Tickets
URL:https://washingtonconservatory.org/event/continuing-jazz-guitar-class/
LOCATION:Washington Conservatory of Music Campus at Glen Echo Park\, 7300 Macarthur Blvd\, Bethesda\, MD\, United States
CATEGORIES:Classes
END:VEVENT
BEGIN:VEVENT
DTSTART;TZID=America/New_York:20250102T200000
DTEND;TZID=America/New_York:20250102T210000
DTSTAMP:20260421T094723
CREATED:20241226T205951Z
LAST-MODIFIED:20241226T205951Z
UID:15988-1735848000-1735851600@washingtonconservatory.org
SUMMARY:Continuing Intermediate/Advanced Guitar Class
DESCRIPTION:Get Tickets\n					\n					\n								\n				\n									Join internationally acclaimed pianist Chengcheng Yao for an unforgettable solo recital honoring the 150th anniversary of French composer Maurice Ravel. Known for her poetic expression and virtuosic clarity\, Yao brings Ravel’s genius to life with a program that showcases the composer’s rich textures\, emotional nuance\, and Impressionist brilliance. 								\n					\n				\n		\n					\n				\n										\n						\n									Get Tickets
URL:https://washingtonconservatory.org/event/continuing-intermediate-advanced-guitar-class/
LOCATION:Washington Conservatory of Music Campus at Glen Echo Park\, 7300 Macarthur Blvd\, Bethesda\, MD\, United States
CATEGORIES:Classes
END:VEVENT
BEGIN:VEVENT
DTSTART;TZID=America/New_York:20250102T190000
DTEND;TZID=America/New_York:20250102T200000
DTSTAMP:20260421T094724
CREATED:20241226T205951Z
LAST-MODIFIED:20241226T205951Z
UID:15989-1735844400-1735848000@washingtonconservatory.org
SUMMARY:Continuing Intermediate Ukulele Class
DESCRIPTION:Get Tickets\n					\n					\n								\n				\n									Join internationally acclaimed pianist Chengcheng Yao for an unforgettable solo recital honoring the 150th anniversary of French composer Maurice Ravel. Known for her poetic expression and virtuosic clarity\, Yao brings Ravel’s genius to life with a program that showcases the composer’s rich textures\, emotional nuance\, and Impressionist brilliance. 								\n					\n				\n		\n					\n				\n										\n						\n									Get Tickets
URL:https://washingtonconservatory.org/event/continuing-intermediate-ukulele-class/
LOCATION:Washington Conservatory of Music Campus at Glen Echo Park\, 7300 Macarthur Blvd\, Bethesda\, MD\, United States
CATEGORIES:Classes
END:VEVENT
BEGIN:VEVENT
DTSTART;TZID=America/New_York:20250102T180000
DTEND;TZID=America/New_York:20250102T190000
DTSTAMP:20260421T094724
CREATED:20241226T205952Z
LAST-MODIFIED:20241226T205952Z
UID:15990-1735840800-1735844400@washingtonconservatory.org
SUMMARY:Continuing Beginning Guitar Class
DESCRIPTION:Get Tickets\n					\n					\n								\n				\n									Join internationally acclaimed pianist Chengcheng Yao for an unforgettable solo recital honoring the 150th anniversary of French composer Maurice Ravel. Known for her poetic expression and virtuosic clarity\, Yao brings Ravel’s genius to life with a program that showcases the composer’s rich textures\, emotional nuance\, and Impressionist brilliance. 								\n					\n				\n		\n					\n				\n										\n						\n									Get Tickets
URL:https://washingtonconservatory.org/event/continuing-beginning-guitar-class/
LOCATION:Washington Conservatory of Music Campus at Glen Echo Park\, 7300 Macarthur Blvd\, Bethesda\, MD\, United States
CATEGORIES:Classes
END:VEVENT
BEGIN:VEVENT
DTSTART;TZID=America/New_York:20250102T170000
DTEND;TZID=America/New_York:20250102T180000
DTSTAMP:20260421T094724
CREATED:20241226T205951Z
LAST-MODIFIED:20241226T205951Z
UID:15987-1735837200-1735840800@washingtonconservatory.org
SUMMARY:Continuing Beginning Ukulele Class
DESCRIPTION:Get Tickets\n					\n					\n								\n				\n									Join internationally acclaimed pianist Chengcheng Yao for an unforgettable solo recital honoring the 150th anniversary of French composer Maurice Ravel. Known for her poetic expression and virtuosic clarity\, Yao brings Ravel’s genius to life with a program that showcases the composer’s rich textures\, emotional nuance\, and Impressionist brilliance. 								\n					\n				\n		\n					\n				\n										\n						\n									Get Tickets
URL:https://washingtonconservatory.org/event/continuing-beginning-ukulele-class/
LOCATION:Washington Conservatory of Music Campus at Glen Echo Park\, 7300 Macarthur Blvd\, Bethesda\, MD\, United States
CATEGORIES:Classes
END:VEVENT
BEGIN:VEVENT
DTSTART;TZID=America/New_York:20241220T173000
DTEND;TZID=America/New_York:20241220T213000
DTSTAMP:20260421T094724
CREATED:20241217T200508Z
LAST-MODIFIED:20241218T135609Z
UID:15837-1734715800-1734730200@washingtonconservatory.org
SUMMARY:Parents’ Night Out
DESCRIPTION:Get Tickets\n					\n					\n								\n				\n									Join internationally acclaimed pianist Chengcheng Yao for an unforgettable solo recital honoring the 150th anniversary of French composer Maurice Ravel. Known for her poetic expression and virtuosic clarity\, Yao brings Ravel’s genius to life with a program that showcases the composer’s rich textures\, emotional nuance\, and Impressionist brilliance. 								\n					\n				\n		\n					\n				\n										\n						\n									Get Tickets
URL:https://washingtonconservatory.org/event/parents-night-out/
LOCATION:MD
CATEGORIES:Community Engagement,Special Events
ATTACH;FMTTYPE=image/webp:https://washingtonconservatory.org/wp-content/uploads/2024/12/WCM-Parents-Night-Out-2024.webp
END:VEVENT
BEGIN:VEVENT
DTSTART;TZID=America/New_York:20241216T180000
DTEND;TZID=America/New_York:20241216T190000
DTSTAMP:20260421T094724
CREATED:20241213T234850Z
LAST-MODIFIED:20241214T155034Z
UID:15805-1734372000-1734375600@washingtonconservatory.org
SUMMARY:Group Class- Bk 3/4
DESCRIPTION:Get Tickets\n					\n					\n								\n				\n									Join internationally acclaimed pianist Chengcheng Yao for an unforgettable solo recital honoring the 150th anniversary of French composer Maurice Ravel. Known for her poetic expression and virtuosic clarity\, Yao brings Ravel’s genius to life with a program that showcases the composer’s rich textures\, emotional nuance\, and Impressionist brilliance. 								\n					\n				\n		\n					\n				\n										\n						\n									Get Tickets
URL:https://washingtonconservatory.org/event/group-class-bk-3-4/
LOCATION:MD
CATEGORIES:Flute,Suzuki Academy
END:VEVENT
BEGIN:VEVENT
DTSTART;TZID=America/New_York:20241216T170000
DTEND;TZID=America/New_York:20241216T180000
DTSTAMP:20260421T094724
CREATED:20241213T234849Z
LAST-MODIFIED:20241214T155034Z
UID:15804-1734368400-1734372000@washingtonconservatory.org
SUMMARY:Group Class- Bk 1-2
DESCRIPTION:Get Tickets\n					\n					\n								\n				\n									Join internationally acclaimed pianist Chengcheng Yao for an unforgettable solo recital honoring the 150th anniversary of French composer Maurice Ravel. Known for her poetic expression and virtuosic clarity\, Yao brings Ravel’s genius to life with a program that showcases the composer’s rich textures\, emotional nuance\, and Impressionist brilliance. 								\n					\n				\n		\n					\n				\n										\n						\n									Get Tickets
URL:https://washingtonconservatory.org/event/group-class-bk-1-2/
LOCATION:MD
CATEGORIES:Flute,Suzuki Academy
END:VEVENT
BEGIN:VEVENT
DTSTART;TZID=America/New_York:20241214T190000
DTEND;TZID=America/New_York:20241214T200000
DTSTAMP:20260421T094724
CREATED:20241214T160736Z
LAST-MODIFIED:20241214T161126Z
UID:15810-1734202800-1734206400@washingtonconservatory.org
SUMMARY:Suzuki Holiday Concert @ Vinson Hall
DESCRIPTION:Get Tickets\n					\n					\n								\n				\n									Join internationally acclaimed pianist Chengcheng Yao for an unforgettable solo recital honoring the 150th anniversary of French composer Maurice Ravel. Known for her poetic expression and virtuosic clarity\, Yao brings Ravel’s genius to life with a program that showcases the composer’s rich textures\, emotional nuance\, and Impressionist brilliance. 								\n					\n				\n		\n					\n				\n										\n						\n									Get Tickets
URL:https://washingtonconservatory.org/event/suzuki-holiday-concert-vinson-hall/
LOCATION:Vinson Hall\, 6251 Old Dominion Dr\, McLean\, VA\, VA\, 22101
CATEGORIES:Concerts,Student Recitals,Suzuki Academy
END:VEVENT
BEGIN:VEVENT
DTSTART;TZID=America/New_York:20241214T170000
DTEND;TZID=America/New_York:20241214T180000
DTSTAMP:20260421T094724
CREATED:20241211T182107Z
LAST-MODIFIED:20241211T182107Z
UID:15786-1734195600-1734199200@washingtonconservatory.org
SUMMARY:The Accord Symphony Orchestra performs with Camerata Baltimore.
DESCRIPTION:Get Tickets\n					\n					\n								\n				\n									Join internationally acclaimed pianist Chengcheng Yao for an unforgettable solo recital honoring the 150th anniversary of French composer Maurice Ravel. Known for her poetic expression and virtuosic clarity\, Yao brings Ravel’s genius to life with a program that showcases the composer’s rich textures\, emotional nuance\, and Impressionist brilliance. 								\n					\n				\n		\n					\n				\n										\n						\n									Get Tickets
URL:https://washingtonconservatory.org/event/the-accord-symphony-orchestra-performs-with-camerata-baltimore/
LOCATION:St. Patrick’s Episcopal Day School\, 4700 Whitehaven Pkwy NW\, Washington\, DC\, 20007\, United States
CATEGORIES:Accord Symphony Orchestra,Concerts,Ensembles
ATTACH;FMTTYPE=image/jpeg:https://washingtonconservatory.org/wp-content/uploads/2024/12/symphonic-string-orchestra-performing-on-stage-YJ5TGHE.jpg
END:VEVENT
BEGIN:VEVENT
DTSTART;TZID=America/New_York:20241207T160000
DTEND;TZID=America/New_York:20241207T170000
DTSTAMP:20260421T094724
CREATED:20241214T160022Z
LAST-MODIFIED:20241214T162312Z
UID:15808-1733587200-1733590800@washingtonconservatory.org
SUMMARY:Suzuki Holiday Concert @ The Fairfax
DESCRIPTION:Get Tickets\n					\n					\n								\n				\n									Join internationally acclaimed pianist Chengcheng Yao for an unforgettable solo recital honoring the 150th anniversary of French composer Maurice Ravel. Known for her poetic expression and virtuosic clarity\, Yao brings Ravel’s genius to life with a program that showcases the composer’s rich textures\, emotional nuance\, and Impressionist brilliance. 								\n					\n				\n		\n					\n				\n										\n						\n									Get Tickets
URL:https://washingtonconservatory.org/event/suzuki-holiday-concert-the-fairfax/
LOCATION:The Fairfax\, 9140 Belvoir Woods Parkway\, Ft. Belvoir\, VA\, 571-565-3735\, United States
CATEGORIES:Concerts,Special Events,Student Recitals,Suzuki Academy
END:VEVENT
END:VCALENDAR