BEGIN:VCALENDAR
VERSION:2.0
PRODID:-//Washington Conservatory of Music - ECPv6.15.20//NONSGML v1.0//EN
CALSCALE:GREGORIAN
METHOD:PUBLISH
X-WR-CALNAME:Washington Conservatory of Music
X-ORIGINAL-URL:https://washingtonconservatory.org
X-WR-CALDESC:Events for Washington Conservatory of Music
REFRESH-INTERVAL;VALUE=DURATION:PT1H
X-Robots-Tag:noindex
X-PUBLISHED-TTL:PT1H
BEGIN:VTIMEZONE
TZID:America/New_York
BEGIN:DAYLIGHT
TZOFFSETFROM:-0500
TZOFFSETTO:-0400
TZNAME:EDT
DTSTART:20250309T070000
END:DAYLIGHT
BEGIN:STANDARD
TZOFFSETFROM:-0400
TZOFFSETTO:-0500
TZNAME:EST
DTSTART:20251102T060000
END:STANDARD
BEGIN:DAYLIGHT
TZOFFSETFROM:-0500
TZOFFSETTO:-0400
TZNAME:EDT
DTSTART:20260308T070000
END:DAYLIGHT
BEGIN:STANDARD
TZOFFSETFROM:-0400
TZOFFSETTO:-0500
TZNAME:EST
DTSTART:20261101T060000
END:STANDARD
BEGIN:DAYLIGHT
TZOFFSETFROM:-0500
TZOFFSETTO:-0400
TZNAME:EDT
DTSTART:20270314T070000
END:DAYLIGHT
BEGIN:STANDARD
TZOFFSETFROM:-0400
TZOFFSETTO:-0500
TZNAME:EST
DTSTART:20271107T060000
END:STANDARD
BEGIN:DAYLIGHT
TZOFFSETFROM:-0500
TZOFFSETTO:-0400
TZNAME:EDT
DTSTART:20280312T070000
END:DAYLIGHT
BEGIN:STANDARD
TZOFFSETFROM:-0400
TZOFFSETTO:-0500
TZNAME:EST
DTSTART:20281105T060000
END:STANDARD
BEGIN:DAYLIGHT
TZOFFSETFROM:-0500
TZOFFSETTO:-0400
TZNAME:EDT
DTSTART:20290311T070000
END:DAYLIGHT
BEGIN:STANDARD
TZOFFSETFROM:-0400
TZOFFSETTO:-0500
TZNAME:EST
DTSTART:20291104T060000
END:STANDARD
END:VTIMEZONE
BEGIN:VEVENT
DTSTART;TZID=America/New_York:20260613T120000
DTEND;TZID=America/New_York:20260613T130000
DTSTAMP:20260422T051005
CREATED:20251125T200703Z
LAST-MODIFIED:20251125T200703Z
UID:18267-1781352000-1781355600@washingtonconservatory.org
SUMMARY:Student Recital
DESCRIPTION:Register\n					\n					\n								\n				\n									You’re invited to a fun and informative afternoon celebrating music\, community\, and the start of a new season at the Washington Conservatory of Music! \nWhat to Expect: \n\n\n\n\n 	Karaoke for Everyone\n 	Percussion for Kids with demo instruction from faculty\n 	Arts & Crafts\n 	Grab a bite from a local food truck\n\n\n\nWhether you’re considering lessons for yourself or your child—or just want to enjoy a musical afternoon in the park—we’d love to meet you! \n🎟️ Free and open to the public. Register at the front desk 								\n				\n										\n						\n									Register
URL:https://washingtonconservatory.org/event/student-recital-6/
LOCATION:Glen Echo Park\, 7370 Macarthur Blvd\, Bethesda\, MD\, United States
CATEGORIES:Special Events
END:VEVENT
BEGIN:VEVENT
DTSTART;TZID=America/New_York:20260613T140000
DTEND;TZID=America/New_York:20260613T150000
DTSTAMP:20260422T051005
CREATED:20251125T200706Z
LAST-MODIFIED:20251125T200706Z
UID:18268-1781359200-1781362800@washingtonconservatory.org
SUMMARY:Student Recital
DESCRIPTION:Register\n					\n					\n								\n				\n									You’re invited to a fun and informative afternoon celebrating music\, community\, and the start of a new season at the Washington Conservatory of Music! \nWhat to Expect: \n\n\n\n\n 	Karaoke for Everyone\n 	Percussion for Kids with demo instruction from faculty\n 	Arts & Crafts\n 	Grab a bite from a local food truck\n\n\n\nWhether you’re considering lessons for yourself or your child—or just want to enjoy a musical afternoon in the park—we’d love to meet you! \n🎟️ Free and open to the public. Register at the front desk 								\n				\n										\n						\n									Register
URL:https://washingtonconservatory.org/event/student-recital-7/
LOCATION:Glen Echo Park\, 7370 Macarthur Blvd\, Bethesda\, MD\, United States
CATEGORIES:Special Events
END:VEVENT
BEGIN:VEVENT
DTSTART;VALUE=DATE:20260706
DTEND;VALUE=DATE:20260711
DTSTAMP:20260422T051005
CREATED:20260211T211048Z
LAST-MODIFIED:20260211T211349Z
UID:18523-1783296000-1783727999@washingtonconservatory.org
SUMMARY:Chamber Music Week - Summer Session
DESCRIPTION:Register\n					\n					\n								\n				\n									You’re invited to a fun and informative afternoon celebrating music\, community\, and the start of a new season at the Washington Conservatory of Music! \nWhat to Expect: \n\n\n\n\n 	Karaoke for Everyone\n 	Percussion for Kids with demo instruction from faculty\n 	Arts & Crafts\n 	Grab a bite from a local food truck\n\n\n\nWhether you’re considering lessons for yourself or your child—or just want to enjoy a musical afternoon in the park—we’d love to meet you! \n🎟️ Free and open to the public. Register at the front desk 								\n				\n										\n						\n									Register
URL:https://washingtonconservatory.org/event/chamber-music-weekend-summer-session/
LOCATION:MD
CATEGORIES:Chamber Music Coaching for Pre-Formed Ensembles,Special Events,Workshops
ATTACH;FMTTYPE=image/png:https://washingtonconservatory.org/wp-content/uploads/2026/02/CMA-Summer-2026-Workshop.png
END:VEVENT
BEGIN:VEVENT
DTSTART;TZID=America/New_York:20270919T140000
DTEND;TZID=America/New_York:20270919T150000
DTSTAMP:20260422T051005
CREATED:20250920T045326Z
LAST-MODIFIED:20250920T045326Z
UID:18068-1821362400-1821366000@washingtonconservatory.org
SUMMARY:Monthly Student Recital
DESCRIPTION:Register\n					\n					\n								\n				\n									You’re invited to a fun and informative afternoon celebrating music\, community\, and the start of a new season at the Washington Conservatory of Music! \nWhat to Expect: \n\n\n\n\n 	Karaoke for Everyone\n 	Percussion for Kids with demo instruction from faculty\n 	Arts & Crafts\n 	Grab a bite from a local food truck\n\n\n\nWhether you’re considering lessons for yourself or your child—or just want to enjoy a musical afternoon in the park—we’d love to meet you! \n🎟️ Free and open to the public. Register at the front desk 								\n				\n										\n						\n									Register
URL:https://washingtonconservatory.org/event/monthly-student-recital-33/
LOCATION:MD
CATEGORIES:Student Recitals
END:VEVENT
BEGIN:VEVENT
DTSTART;TZID=America/New_York:20271017T140000
DTEND;TZID=America/New_York:20271017T150000
DTSTAMP:20260422T051005
CREATED:20251018T045343Z
LAST-MODIFIED:20251018T045343Z
UID:18129-1823781600-1823785200@washingtonconservatory.org
SUMMARY:Monthly Student Recital
DESCRIPTION:Register\n					\n					\n								\n				\n									You’re invited to a fun and informative afternoon celebrating music\, community\, and the start of a new season at the Washington Conservatory of Music! \nWhat to Expect: \n\n\n\n\n 	Karaoke for Everyone\n 	Percussion for Kids with demo instruction from faculty\n 	Arts & Crafts\n 	Grab a bite from a local food truck\n\n\n\nWhether you’re considering lessons for yourself or your child—or just want to enjoy a musical afternoon in the park—we’d love to meet you! \n🎟️ Free and open to the public. Register at the front desk 								\n				\n										\n						\n									Register
URL:https://washingtonconservatory.org/event/monthly-student-recital-34/
LOCATION:MD
CATEGORIES:Student Recitals
END:VEVENT
BEGIN:VEVENT
DTSTART;TZID=America/New_York:20271121T140000
DTEND;TZID=America/New_York:20271121T150000
DTSTAMP:20260422T051005
CREATED:20251122T045540Z
LAST-MODIFIED:20251122T045540Z
UID:18216-1826805600-1826809200@washingtonconservatory.org
SUMMARY:Monthly Student Recital
DESCRIPTION:Register\n					\n					\n								\n				\n									You’re invited to a fun and informative afternoon celebrating music\, community\, and the start of a new season at the Washington Conservatory of Music! \nWhat to Expect: \n\n\n\n\n 	Karaoke for Everyone\n 	Percussion for Kids with demo instruction from faculty\n 	Arts & Crafts\n 	Grab a bite from a local food truck\n\n\n\nWhether you’re considering lessons for yourself or your child—or just want to enjoy a musical afternoon in the park—we’d love to meet you! \n🎟️ Free and open to the public. Register at the front desk 								\n				\n										\n						\n									Register
URL:https://washingtonconservatory.org/event/monthly-student-recital-35/
LOCATION:MD
CATEGORIES:Student Recitals
END:VEVENT
BEGIN:VEVENT
DTSTART;TZID=America/New_York:20271219T140000
DTEND;TZID=America/New_York:20271219T150000
DTSTAMP:20260422T051005
CREATED:20251220T053929Z
LAST-MODIFIED:20251220T053929Z
UID:18359-1829224800-1829228400@washingtonconservatory.org
SUMMARY:Monthly Student Recital
DESCRIPTION:Register\n					\n					\n								\n				\n									You’re invited to a fun and informative afternoon celebrating music\, community\, and the start of a new season at the Washington Conservatory of Music! \nWhat to Expect: \n\n\n\n\n 	Karaoke for Everyone\n 	Percussion for Kids with demo instruction from faculty\n 	Arts & Crafts\n 	Grab a bite from a local food truck\n\n\n\nWhether you’re considering lessons for yourself or your child—or just want to enjoy a musical afternoon in the park—we’d love to meet you! \n🎟️ Free and open to the public. Register at the front desk 								\n				\n										\n						\n									Register
URL:https://washingtonconservatory.org/event/monthly-student-recital-36/
LOCATION:MD
CATEGORIES:Student Recitals
END:VEVENT
BEGIN:VEVENT
DTSTART;TZID=America/New_York:20271219T140000
DTEND;TZID=America/New_York:20271219T150000
DTSTAMP:20260422T051005
CREATED:20251220T053933Z
LAST-MODIFIED:20251220T053933Z
UID:18360-1829224800-1829228400@washingtonconservatory.org
SUMMARY:Monthly Student Recital
DESCRIPTION:Register\n					\n					\n								\n				\n									You’re invited to a fun and informative afternoon celebrating music\, community\, and the start of a new season at the Washington Conservatory of Music! \nWhat to Expect: \n\n\n\n\n 	Karaoke for Everyone\n 	Percussion for Kids with demo instruction from faculty\n 	Arts & Crafts\n 	Grab a bite from a local food truck\n\n\n\nWhether you’re considering lessons for yourself or your child—or just want to enjoy a musical afternoon in the park—we’d love to meet you! \n🎟️ Free and open to the public. Register at the front desk 								\n				\n										\n						\n									Register
URL:https://washingtonconservatory.org/event/monthly-student-recital-37/
LOCATION:MD
CATEGORIES:Student Recitals
END:VEVENT
BEGIN:VEVENT
DTSTART;TZID=America/New_York:20280116T140000
DTEND;TZID=America/New_York:20280116T150000
DTSTAMP:20260422T051005
CREATED:20260117T060857Z
LAST-MODIFIED:20260117T060857Z
UID:18446-1831644000-1831647600@washingtonconservatory.org
SUMMARY:Monthly Student Recital
DESCRIPTION:Register\n					\n					\n								\n				\n									You’re invited to a fun and informative afternoon celebrating music\, community\, and the start of a new season at the Washington Conservatory of Music! \nWhat to Expect: \n\n\n\n\n 	Karaoke for Everyone\n 	Percussion for Kids with demo instruction from faculty\n 	Arts & Crafts\n 	Grab a bite from a local food truck\n\n\n\nWhether you’re considering lessons for yourself or your child—or just want to enjoy a musical afternoon in the park—we’d love to meet you! \n🎟️ Free and open to the public. Register at the front desk 								\n				\n										\n						\n									Register
URL:https://washingtonconservatory.org/event/monthly-student-recital-38/
LOCATION:MD
CATEGORIES:Student Recitals
END:VEVENT
BEGIN:VEVENT
DTSTART;TZID=America/New_York:20280116T140000
DTEND;TZID=America/New_York:20280116T150000
DTSTAMP:20260422T051005
CREATED:20260117T060858Z
LAST-MODIFIED:20260117T060858Z
UID:18447-1831644000-1831647600@washingtonconservatory.org
SUMMARY:Monthly Student Recital
DESCRIPTION:Register\n					\n					\n								\n				\n									You’re invited to a fun and informative afternoon celebrating music\, community\, and the start of a new season at the Washington Conservatory of Music! \nWhat to Expect: \n\n\n\n\n 	Karaoke for Everyone\n 	Percussion for Kids with demo instruction from faculty\n 	Arts & Crafts\n 	Grab a bite from a local food truck\n\n\n\nWhether you’re considering lessons for yourself or your child—or just want to enjoy a musical afternoon in the park—we’d love to meet you! \n🎟️ Free and open to the public. Register at the front desk 								\n				\n										\n						\n									Register
URL:https://washingtonconservatory.org/event/monthly-student-recital-39/
LOCATION:MD
CATEGORIES:Student Recitals
END:VEVENT
BEGIN:VEVENT
DTSTART;TZID=America/New_York:20280220T140000
DTEND;TZID=America/New_York:20280220T150000
DTSTAMP:20260422T051005
CREATED:20260403T213928Z
LAST-MODIFIED:20260403T213928Z
UID:18735-1834668000-1834671600@washingtonconservatory.org
SUMMARY:Monthly Student Recital
DESCRIPTION:Register\n					\n					\n								\n				\n									You’re invited to a fun and informative afternoon celebrating music\, community\, and the start of a new season at the Washington Conservatory of Music! \nWhat to Expect: \n\n\n\n\n 	Karaoke for Everyone\n 	Percussion for Kids with demo instruction from faculty\n 	Arts & Crafts\n 	Grab a bite from a local food truck\n\n\n\nWhether you’re considering lessons for yourself or your child—or just want to enjoy a musical afternoon in the park—we’d love to meet you! \n🎟️ Free and open to the public. Register at the front desk 								\n				\n										\n						\n									Register
URL:https://washingtonconservatory.org/event/monthly-student-recital-40/
LOCATION:MD
CATEGORIES:Student Recitals
END:VEVENT
BEGIN:VEVENT
DTSTART;TZID=America/New_York:20280319T140000
DTEND;TZID=America/New_York:20280319T150000
DTSTAMP:20260422T051005
CREATED:20260403T213931Z
LAST-MODIFIED:20260403T213931Z
UID:18736-1837087200-1837090800@washingtonconservatory.org
SUMMARY:Monthly Student Recital
DESCRIPTION:Register\n					\n					\n								\n				\n									You’re invited to a fun and informative afternoon celebrating music\, community\, and the start of a new season at the Washington Conservatory of Music! \nWhat to Expect: \n\n\n\n\n 	Karaoke for Everyone\n 	Percussion for Kids with demo instruction from faculty\n 	Arts & Crafts\n 	Grab a bite from a local food truck\n\n\n\nWhether you’re considering lessons for yourself or your child—or just want to enjoy a musical afternoon in the park—we’d love to meet you! \n🎟️ Free and open to the public. Register at the front desk 								\n				\n										\n						\n									Register
URL:https://washingtonconservatory.org/event/monthly-student-recital-41/
LOCATION:MD
CATEGORIES:Student Recitals
END:VEVENT
BEGIN:VEVENT
DTSTART;TZID=America/New_York:20280416T140000
DTEND;TZID=America/New_York:20280416T150000
DTSTAMP:20260422T051005
CREATED:20260417T213851Z
LAST-MODIFIED:20260417T213851Z
UID:18769-1839506400-1839510000@washingtonconservatory.org
SUMMARY:Monthly Student Recital
DESCRIPTION:Register\n					\n					\n								\n				\n									You’re invited to a fun and informative afternoon celebrating music\, community\, and the start of a new season at the Washington Conservatory of Music! \nWhat to Expect: \n\n\n\n\n 	Karaoke for Everyone\n 	Percussion for Kids with demo instruction from faculty\n 	Arts & Crafts\n 	Grab a bite from a local food truck\n\n\n\nWhether you’re considering lessons for yourself or your child—or just want to enjoy a musical afternoon in the park—we’d love to meet you! \n🎟️ Free and open to the public. Register at the front desk 								\n				\n										\n						\n									Register
URL:https://washingtonconservatory.org/event/monthly-student-recital-42/
LOCATION:MD
CATEGORIES:Student Recitals
END:VEVENT
END:VCALENDAR