BEGIN:VCALENDAR
VERSION:2.0
PRODID:-//Washington Conservatory of Music - ECPv6.15.20//NONSGML v1.0//EN
CALSCALE:GREGORIAN
METHOD:PUBLISH
X-ORIGINAL-URL:https://washingtonconservatory.org
X-WR-CALDESC:Events for Washington Conservatory of Music
REFRESH-INTERVAL;VALUE=DURATION:PT1H
X-Robots-Tag:noindex
X-PUBLISHED-TTL:PT1H
BEGIN:VTIMEZONE
TZID:America/New_York
BEGIN:DAYLIGHT
TZOFFSETFROM:-0500
TZOFFSETTO:-0400
TZNAME:EDT
DTSTART:20250309T070000
END:DAYLIGHT
BEGIN:STANDARD
TZOFFSETFROM:-0400
TZOFFSETTO:-0500
TZNAME:EST
DTSTART:20251102T060000
END:STANDARD
BEGIN:DAYLIGHT
TZOFFSETFROM:-0500
TZOFFSETTO:-0400
TZNAME:EDT
DTSTART:20260308T070000
END:DAYLIGHT
BEGIN:STANDARD
TZOFFSETFROM:-0400
TZOFFSETTO:-0500
TZNAME:EST
DTSTART:20261101T060000
END:STANDARD
BEGIN:DAYLIGHT
TZOFFSETFROM:-0500
TZOFFSETTO:-0400
TZNAME:EDT
DTSTART:20270314T070000
END:DAYLIGHT
BEGIN:STANDARD
TZOFFSETFROM:-0400
TZOFFSETTO:-0500
TZNAME:EST
DTSTART:20271107T060000
END:STANDARD
BEGIN:DAYLIGHT
TZOFFSETFROM:-0500
TZOFFSETTO:-0400
TZNAME:EDT
DTSTART:20280312T070000
END:DAYLIGHT
BEGIN:STANDARD
TZOFFSETFROM:-0400
TZOFFSETTO:-0500
TZNAME:EST
DTSTART:20281105T060000
END:STANDARD
END:VTIMEZONE
BEGIN:VEVENT
DTSTART;TZID=America/New_York:20260426T150000
DTEND;TZID=America/New_York:20260426T160000
DTSTAMP:20260422T184237
CREATED:20250910T034156Z
LAST-MODIFIED:20250910T034156Z
UID:18010-1777215600-1777219200@washingtonconservatory.org
SUMMARY:Suzuki Flute Class Book 1
DESCRIPTION:
URL:https://washingtonconservatory.org/event/suzuki-flute-class-book-1-12/
CATEGORIES:Suzuki Academy
END:VEVENT
BEGIN:VEVENT
DTSTART;TZID=America/New_York:20260427T170000
DTEND;TZID=America/New_York:20260427T173000
DTSTAMP:20260422T184237
CREATED:20250906T030956Z
LAST-MODIFIED:20250908T142731Z
UID:17943-1777309200-1777311000@washingtonconservatory.org
SUMMARY:Beginner Suzuki Violin Class
DESCRIPTION:
URL:https://washingtonconservatory.org/event/beginner-suzuki-violin-class-31/
CATEGORIES:Classes,Suzuki Academy
END:VEVENT
BEGIN:VEVENT
DTSTART;TZID=America/New_York:20260427T173000
DTEND;TZID=America/New_York:20260427T183000
DTSTAMP:20260422T184237
CREATED:20250906T031000Z
LAST-MODIFIED:20250908T142729Z
UID:17944-1777311000-1777314600@washingtonconservatory.org
SUMMARY:Suzuki Violin Class
DESCRIPTION:
URL:https://washingtonconservatory.org/event/suzuki-violin-class-29/
CATEGORIES:Classes,Suzuki Academy
END:VEVENT
BEGIN:VEVENT
DTSTART;TZID=America/New_York:20260503T140000
DTEND;TZID=America/New_York:20260503T150000
DTSTAMP:20260422T184237
CREATED:20250910T034220Z
LAST-MODIFIED:20250910T034220Z
UID:18012-1777816800-1777820400@washingtonconservatory.org
SUMMARY:Suzuki Flute Class Book 2+
DESCRIPTION:
URL:https://washingtonconservatory.org/event/suzuki-flute-class-book-2-13/
CATEGORIES:Suzuki Academy
END:VEVENT
BEGIN:VEVENT
DTSTART;TZID=America/New_York:20260503T150000
DTEND;TZID=America/New_York:20260503T160000
DTSTAMP:20260422T184237
CREATED:20250910T034222Z
LAST-MODIFIED:20250910T034222Z
UID:18013-1777820400-1777824000@washingtonconservatory.org
SUMMARY:Suzuki Flute Class Book 1
DESCRIPTION:
URL:https://washingtonconservatory.org/event/suzuki-flute-class-book-1-13/
CATEGORIES:Suzuki Academy
END:VEVENT
BEGIN:VEVENT
DTSTART;TZID=America/New_York:20260504T170000
DTEND;TZID=America/New_York:20260504T173000
DTSTAMP:20260422T184237
CREATED:20250906T031002Z
LAST-MODIFIED:20250908T142728Z
UID:17945-1777914000-1777915800@washingtonconservatory.org
SUMMARY:Beginner Suzuki Violin Class
DESCRIPTION:
URL:https://washingtonconservatory.org/event/beginner-suzuki-violin-class-32/
CATEGORIES:Classes,Suzuki Academy
END:VEVENT
BEGIN:VEVENT
DTSTART;TZID=America/New_York:20260504T173000
DTEND;TZID=America/New_York:20260504T183000
DTSTAMP:20260422T184237
CREATED:20250906T031004Z
LAST-MODIFIED:20250908T142727Z
UID:17946-1777915800-1777919400@washingtonconservatory.org
SUMMARY:Suzuki Violin Class
DESCRIPTION:
URL:https://washingtonconservatory.org/event/suzuki-violin-class-30/
CATEGORIES:Classes,Suzuki Academy
END:VEVENT
BEGIN:VEVENT
DTSTART;TZID=America/New_York:20260508T173000
DTEND;TZID=America/New_York:20260508T200000
DTSTAMP:20260422T184237
CREATED:20251125T200644Z
LAST-MODIFIED:20251125T200644Z
UID:18259-1778261400-1778270400@washingtonconservatory.org
SUMMARY:Honors Recital JURIES
DESCRIPTION:
URL:https://washingtonconservatory.org/event/honors-recital-juries/
LOCATION:Washington Conservatory of Music\, 7370 Macarthur Blvd\, Bethesda\, MD\, United States
CATEGORIES:Special Events
END:VEVENT
BEGIN:VEVENT
DTSTART;TZID=America/New_York:20260509T120000
DTEND;TZID=America/New_York:20260509T130000
DTSTAMP:20260422T184237
CREATED:20251125T200648Z
LAST-MODIFIED:20251125T200648Z
UID:18260-1778328000-1778331600@washingtonconservatory.org
SUMMARY:Student Recital
DESCRIPTION:
URL:https://washingtonconservatory.org/event/student-recital-5/
LOCATION:The Episcopal Church of the Redeemer\, 6203 Dunrobbin Dr\, Bethesda\, MD\, United States
CATEGORIES:Special Events
END:VEVENT
BEGIN:VEVENT
DTSTART;TZID=America/New_York:20260509T140000
DTEND;TZID=America/New_York:20260509T150000
DTSTAMP:20260422T184237
CREATED:20251125T200650Z
LAST-MODIFIED:20251125T200650Z
UID:18261-1778335200-1778338800@washingtonconservatory.org
SUMMARY:Adult Student and WCO Chamber Recital
DESCRIPTION:
URL:https://washingtonconservatory.org/event/adult-student-and-wco-chamber-recital/
LOCATION:The Episcopal Church of the Redeemer\, 6203 Dunrobbin Dr\, Bethesda\, MD\, United States
CATEGORIES:Special Events
END:VEVENT
BEGIN:VEVENT
DTSTART;TZID=America/New_York:20260511T170000
DTEND;TZID=America/New_York:20260511T173000
DTSTAMP:20260422T184237
CREATED:20250906T031006Z
LAST-MODIFIED:20250908T142726Z
UID:17947-1778518800-1778520600@washingtonconservatory.org
SUMMARY:Beginner Suzuki Violin Class
DESCRIPTION:
URL:https://washingtonconservatory.org/event/beginner-suzuki-violin-class-33/
CATEGORIES:Classes,Suzuki Academy
END:VEVENT
BEGIN:VEVENT
DTSTART;TZID=America/New_York:20260511T173000
DTEND;TZID=America/New_York:20260511T183000
DTSTAMP:20260422T184237
CREATED:20250906T031008Z
LAST-MODIFIED:20250908T142724Z
UID:17948-1778520600-1778524200@washingtonconservatory.org
SUMMARY:Suzuki Violin Class
DESCRIPTION:
URL:https://washingtonconservatory.org/event/suzuki-violin-class-31/
CATEGORIES:Classes,Suzuki Academy
END:VEVENT
BEGIN:VEVENT
DTSTART;TZID=America/New_York:20260511T173000
DTEND;TZID=America/New_York:20260511T183000
DTSTAMP:20260422T184237
CREATED:20250906T031008Z
LAST-MODIFIED:20250908T142722Z
UID:17949-1778520600-1778524200@washingtonconservatory.org
SUMMARY:Suzuki Violin Class
DESCRIPTION:
URL:https://washingtonconservatory.org/event/suzuki-violin-class-32/
CATEGORIES:Classes,Suzuki Academy
END:VEVENT
BEGIN:VEVENT
DTSTART;TZID=America/New_York:20260515T190000
DTEND;TZID=America/New_York:20260515T190000
DTSTAMP:20260422T184237
CREATED:20251125T200652Z
LAST-MODIFIED:20260422T152305Z
UID:18262-1778871600-1778871600@washingtonconservatory.org
SUMMARY:Honors Recital 2026
DESCRIPTION:Celebrating Excellence in Performance \nJoin the Washington Conservatory of Music for an inspiring evening of exceptional talent at our annual Honors Recital. \nThis special performance showcases WCM’s top students—musicians who have been selected through a juried process in recognition of their outstanding artistry\, dedication\, and musical achievement. Representing a range of instruments and disciplines\, these young artists exemplify the highest standard of excellence within our Conservatory community. \nFrom expressive solo performances to technically masterful works\, the Honors Recital offers a glimpse into the future of music through the voices of today’s most promising students. \nCome celebrate their hard work\, passion\, and achievement in a program that highlights both musical excellence and the transformative power of arts education.
URL:https://washingtonconservatory.org/event/honors-recital/
LOCATION:Glen Echo Park\, 7370 Macarthur Blvd\, Bethesda\, MD\, United States
CATEGORIES:Community Engagement,Concerts,Recital Series,Special Events,Student Recitals
ATTACH;FMTTYPE=image/png:https://washingtonconservatory.org/wp-content/uploads/2025/11/Honors-Recital-5172026v4.png
END:VEVENT
BEGIN:VEVENT
DTSTART;TZID=America/New_York:20260516T193000
DTEND;TZID=America/New_York:20260516T193000
DTSTAMP:20260422T184237
CREATED:20260421T201831Z
LAST-MODIFIED:20260421T203215Z
UID:18765-1778959800-1778959800@washingtonconservatory.org
SUMMARY:Concerto Competition Winners Concert
DESCRIPTION:Donate & Reserve\n					 \nFeaturing winners of the Accord Symphony Orchestra and Chesapeake Youth Symphony Orchestra Concerto Competitions\nExperience an extraordinary evening of music as two leading regional ensembles—the Washington Conservatory of Music’s Accord Symphony Orchestra (AcSO) and the Chesapeake Youth Symphony Orchestra (CYSO)—come together to celebrate the exceptional next generation of classical musicians. \nThis special collaborative performance showcases outstanding soloists who have earned top honors through highly competitive concerto competitions\, performing with full orchestra in a powerful and inspiring program. \nAudiences will enjoy a dynamic selection of beloved masterworks\, including: \n\nDvořák – Cello Concerto (Movement I) Featuring AcSO Winner\, cellist Valerie Lai\nBeethoven – Piano Concerto No. 1 (Movement I) Featuring AcSO Winner\, pianist Megan Lai\nSaint-Saëns – Cello Concerto (Movement I) Featuring CYSO Winner\, cellist Mattias van Andel\n\nThe evening culminates in a full orchestral performance of Tchaikovsky’s Symphony No. 5\, one of the most emotionally powerful works in the classical repertoire. \nThis concert represents a unique opportunity to witness rising artists alongside two accomplished orchestras in a shared celebration of musical excellence\, collaboration\, and artistic achievement. \nTickets\nSuggested donations start at $10 or pay what you can. \n								\n									Donate & Reserve
URL:https://washingtonconservatory.org/event/concerto-competition-winners-concert/
LOCATION:Annapolis Area Christian School – High School Campus\, 109 Burns Crossing Rd\, Severn\, MD\, 21144
CATEGORIES:Accord Symphony Orchestra,Concerts,Recital Series,Special Events
ATTACH;FMTTYPE=image/png:https://washingtonconservatory.org/wp-content/uploads/2026/04/2026-Concerto-Winners-Concerto-v4.png
END:VEVENT
BEGIN:VEVENT
DTSTART;TZID=America/New_York:20260517T140000
DTEND;TZID=America/New_York:20260517T150000
DTSTAMP:20260422T184237
CREATED:20250910T034226Z
LAST-MODIFIED:20250910T034226Z
UID:18015-1779026400-1779030000@washingtonconservatory.org
SUMMARY:Suzuki Flute Class Book 2+
DESCRIPTION:
URL:https://washingtonconservatory.org/event/suzuki-flute-class-book-2-14/
CATEGORIES:Suzuki Academy
END:VEVENT
BEGIN:VEVENT
DTSTART;TZID=America/New_York:20260517T150000
DTEND;TZID=America/New_York:20260517T160000
DTSTAMP:20260422T184237
CREATED:20250910T034224Z
LAST-MODIFIED:20250910T034224Z
UID:18014-1779030000-1779033600@washingtonconservatory.org
SUMMARY:Suzuki Flute Class Book 1
DESCRIPTION:
URL:https://washingtonconservatory.org/event/suzuki-flute-class-book-1-14/
CATEGORIES:Suzuki Academy
END:VEVENT
BEGIN:VEVENT
DTSTART;VALUE=DATE:20260518
DTEND;VALUE=DATE:20260519
DTSTAMP:20260422T184237
CREATED:20250906T031011Z
LAST-MODIFIED:20250908T142721Z
UID:17951-1779062400-1779148799@washingtonconservatory.org
SUMMARY:Last Violin Group Class of Spring Semester
DESCRIPTION:
URL:https://washingtonconservatory.org/event/last-violin-group-class-of-spring-semester/
CATEGORIES:Classes,Suzuki Academy
END:VEVENT
BEGIN:VEVENT
DTSTART;TZID=America/New_York:20260518T170000
DTEND;TZID=America/New_York:20260518T173000
DTSTAMP:20260422T184237
CREATED:20250906T031009Z
LAST-MODIFIED:20250908T142720Z
UID:17950-1779123600-1779125400@washingtonconservatory.org
SUMMARY:Beginner Suzuki Violin Class
DESCRIPTION:
URL:https://washingtonconservatory.org/event/beginner-suzuki-violin-class-34/
CATEGORIES:Classes,Suzuki Academy
END:VEVENT
BEGIN:VEVENT
DTSTART;TZID=America/New_York:20260518T173000
DTEND;TZID=America/New_York:20260518T183000
DTSTAMP:20260422T184237
CREATED:20250906T031013Z
LAST-MODIFIED:20250908T142719Z
UID:17952-1779125400-1779129000@washingtonconservatory.org
SUMMARY:Suzuki Violin Class
DESCRIPTION:
URL:https://washingtonconservatory.org/event/suzuki-violin-class-33/
CATEGORIES:Classes,Suzuki Academy
END:VEVENT
BEGIN:VEVENT
DTSTART;TZID=America/New_York:20260531T160000
DTEND;TZID=America/New_York:20260531T170000
DTSTAMP:20260422T184237
CREATED:20251125T200654Z
LAST-MODIFIED:20251125T200654Z
UID:18263-1780243200-1780246800@washingtonconservatory.org
SUMMARY:Studio Recital: Jaewon Lee Location TBD
DESCRIPTION:
URL:https://washingtonconservatory.org/event/studio-recital-jaewon-lee-location-tbd/
CATEGORIES:Special Events
END:VEVENT
BEGIN:VEVENT
DTSTART;TZID=America/New_York:20260607T140000
DTEND;TZID=America/New_York:20260607T160000
DTSTAMP:20260422T184237
CREATED:20250910T034249Z
LAST-MODIFIED:20250910T034249Z
UID:18016-1780840800-1780848000@washingtonconservatory.org
SUMMARY:Final Group Concert and Auction
DESCRIPTION:
URL:https://washingtonconservatory.org/event/final-group-concert-and-auction/
CATEGORIES:Suzuki Academy
END:VEVENT
BEGIN:VEVENT
DTSTART;TZID=America/New_York:20260607T140000
DTEND;TZID=America/New_York:20260607T170000
DTSTAMP:20260422T184237
CREATED:20251125T200658Z
LAST-MODIFIED:20251125T200658Z
UID:18265-1780840800-1780851600@washingtonconservatory.org
SUMMARY:Suzuki End of Year Recital
DESCRIPTION:Suzuki Flutes and Strings at Glen Echo Town Hall
URL:https://washingtonconservatory.org/event/suzuki-end-of-year-recital/
LOCATION:Town of Glen Echo\, 6106 Harvard Ave\, Glen Echo\, MD\, United States
CATEGORIES:Special Events
END:VEVENT
BEGIN:VEVENT
DTSTART;TZID=America/New_York:20260607T170000
DTEND;TZID=America/New_York:20260607T170000
DTSTAMP:20260422T184237
CREATED:20251125T200700Z
LAST-MODIFIED:20260422T151611Z
UID:18266-1780851600-1780851600@washingtonconservatory.org
SUMMARY:Washington Conservatory Orchestra 30th Anniversary Concert
DESCRIPTION:Reserve Your Seat\n \nCelebrate a milestone evening of music as the Washington Conservatory Orchestra marks its 30th Anniversary with a powerful live performance under the direction of Jovan Živković\, Conductor and Music Director. \nTaking place on June 7\, 2026\, at 5 PM at North Chevy Chase Christian Church\, this special concert honors three decades of musical excellence\, community impact\, and artistic growth in the Washington\, DC region. \nThe program features celebrated works by Aaron Copland and Charles Ives\, as well as a world premiere by WCO violinist and composer Yoko Wylegala\, presented as part of the national America 250 celebration\, highlighting the richness and evolution of American orchestral music. \nWhether you are a longtime supporter or experiencing the Conservatory for the first time\, this anniversary performance offers an inspiring and memorable concert experience. \nEvent Details: \n\nDate: June 7\, 2026\nTime: 5:00 PM\nLocation: North Chevy Chase Christian Church\n8814 Kensington Parkway\nChevy Chase\, MD 20815\n\nJoin us for an unforgettable evening of live orchestral music. \n\nReserve Your Seat
URL:https://washingtonconservatory.org/event/wco-30th-anniversary-concert/
LOCATION:North Chevy Chase Christian Church (Disciples of Christ)\, 8814 Kensington Pkwy\, Chevy Chase\, MD\, United States
CATEGORIES:Community Engagement,Concerts,Special Events,Washington Conservatory Orchestra
ATTACH;FMTTYPE=image/png:https://washingtonconservatory.org/wp-content/uploads/2025/11/WCO-30th-Anniversary-Concert-672026pngv3.png
END:VEVENT
BEGIN:VEVENT
DTSTART;TZID=America/New_York:20260613T120000
DTEND;TZID=America/New_York:20260613T130000
DTSTAMP:20260422T184237
CREATED:20251125T200703Z
LAST-MODIFIED:20251125T200703Z
UID:18267-1781352000-1781355600@washingtonconservatory.org
SUMMARY:Student Recital
DESCRIPTION:
URL:https://washingtonconservatory.org/event/student-recital-6/
LOCATION:Glen Echo Park\, 7370 Macarthur Blvd\, Bethesda\, MD\, United States
CATEGORIES:Special Events
END:VEVENT
BEGIN:VEVENT
DTSTART;TZID=America/New_York:20260613T140000
DTEND;TZID=America/New_York:20260613T150000
DTSTAMP:20260422T184237
CREATED:20251125T200706Z
LAST-MODIFIED:20251125T200706Z
UID:18268-1781359200-1781362800@washingtonconservatory.org
SUMMARY:Student Recital
DESCRIPTION:
URL:https://washingtonconservatory.org/event/student-recital-7/
LOCATION:Glen Echo Park\, 7370 Macarthur Blvd\, Bethesda\, MD\, United States
CATEGORIES:Special Events
END:VEVENT
BEGIN:VEVENT
DTSTART;VALUE=DATE:20260706
DTEND;VALUE=DATE:20260711
DTSTAMP:20260422T184237
CREATED:20260211T211048Z
LAST-MODIFIED:20260211T211349Z
UID:18523-1783296000-1783727999@washingtonconservatory.org
SUMMARY:Chamber Music Week - Summer Session
DESCRIPTION:An Immersive Chamber Music Experience for Amateur Adult Musicians \nJoin the Washington Conservatory of Music Chamber Music Academy— three weekend intensives designed for dedicated adult musicians to refine their ensemble skills\, receive expert coaching\, collaborate in an inspiring setting\, and enjoy master classes and performances by distinguished faculty and guest artists. Each workshop culminates in a final performance\, showcasing the progress and artistry developed throughout the workshop. \nTuition and Add-ons: \n\n$550 early bird\, $600 regular admission\n$120 for optional private lesson (scheduled independently)\n$20 catered lunch/day\n\nKey Dates: \n\nFebruary 15 – Registration Opens\nMay 4 – Early Bird Discount Ends / (I would suggest May 4\, 2026 to give time for April participants to apply)\n\n\nJune 5 – Application Closes\nJune 15 – Groups & Programs Announced\nJuly 6 – Camp begins\n\n\nLearn More\n\n\nApply Now
URL:https://washingtonconservatory.org/event/chamber-music-weekend-summer-session/
CATEGORIES:Chamber Music Coaching for Pre-Formed Ensembles,Special Events,Workshops
ATTACH;FMTTYPE=image/png:https://washingtonconservatory.org/wp-content/uploads/2026/02/CMA-Summer-2026-Workshop.png
END:VEVENT
BEGIN:VEVENT
DTSTART;TZID=America/New_York:20270919T140000
DTEND;TZID=America/New_York:20270919T150000
DTSTAMP:20260422T184237
CREATED:20250920T045326Z
LAST-MODIFIED:20250920T045326Z
UID:18068-1821362400-1821366000@washingtonconservatory.org
SUMMARY:Monthly Student Recital
DESCRIPTION:
URL:https://washingtonconservatory.org/event/monthly-student-recital-33/
CATEGORIES:Student Recitals
END:VEVENT
BEGIN:VEVENT
DTSTART;TZID=America/New_York:20271017T140000
DTEND;TZID=America/New_York:20271017T150000
DTSTAMP:20260422T184237
CREATED:20251018T045343Z
LAST-MODIFIED:20251018T045343Z
UID:18129-1823781600-1823785200@washingtonconservatory.org
SUMMARY:Monthly Student Recital
DESCRIPTION:
URL:https://washingtonconservatory.org/event/monthly-student-recital-34/
CATEGORIES:Student Recitals
END:VEVENT
BEGIN:VEVENT
DTSTART;TZID=America/New_York:20271121T140000
DTEND;TZID=America/New_York:20271121T150000
DTSTAMP:20260422T184237
CREATED:20251122T045540Z
LAST-MODIFIED:20251122T045540Z
UID:18216-1826805600-1826809200@washingtonconservatory.org
SUMMARY:Monthly Student Recital
DESCRIPTION:
URL:https://washingtonconservatory.org/event/monthly-student-recital-35/
CATEGORIES:Student Recitals
END:VEVENT
END:VCALENDAR