BEGIN:VCALENDAR
VERSION:2.0
PRODID:-//Washington Conservatory of Music - ECPv6.15.20//NONSGML v1.0//EN
CALSCALE:GREGORIAN
METHOD:PUBLISH
X-WR-CALNAME:Washington Conservatory of Music
X-ORIGINAL-URL:https://washingtonconservatory.org
X-WR-CALDESC:Events for Washington Conservatory of Music
REFRESH-INTERVAL;VALUE=DURATION:PT1H
X-Robots-Tag:noindex
X-PUBLISHED-TTL:PT1H
BEGIN:VTIMEZONE
TZID:America/New_York
BEGIN:DAYLIGHT
TZOFFSETFROM:-0500
TZOFFSETTO:-0400
TZNAME:EDT
DTSTART:20240310T070000
END:DAYLIGHT
BEGIN:STANDARD
TZOFFSETFROM:-0400
TZOFFSETTO:-0500
TZNAME:EST
DTSTART:20241103T060000
END:STANDARD
BEGIN:DAYLIGHT
TZOFFSETFROM:-0500
TZOFFSETTO:-0400
TZNAME:EDT
DTSTART:20250309T070000
END:DAYLIGHT
BEGIN:STANDARD
TZOFFSETFROM:-0400
TZOFFSETTO:-0500
TZNAME:EST
DTSTART:20251102T060000
END:STANDARD
BEGIN:DAYLIGHT
TZOFFSETFROM:-0500
TZOFFSETTO:-0400
TZNAME:EDT
DTSTART:20260308T070000
END:DAYLIGHT
BEGIN:STANDARD
TZOFFSETFROM:-0400
TZOFFSETTO:-0500
TZNAME:EST
DTSTART:20261101T060000
END:STANDARD
END:VTIMEZONE
BEGIN:VEVENT
DTSTART;TZID=America/New_York:20250630T080000
DTEND;TZID=America/New_York:20250825T170000
DTSTAMP:20260421T060230
CREATED:20250630T130416Z
LAST-MODIFIED:20250804T154316Z
UID:17555-1751270400-1756141200@washingtonconservatory.org
SUMMARY:Assistant Conductor Auditions – Now Accepting Applications
DESCRIPTION:Overview: \nWashington Conservatory of Music invites applications for Assistant and Associate Conductor roles with its ensembles. This opportunity is ideal for emerging conductors seeking to collaborate with established directors and semi-professional musicians. \nOur Ensembles: \n🎵 Washington Conservatory Orchestra – Directed by Jovan Zivkovic🎵 Accord Symphony Orchestra – Directed by Julien Benichou🎵 Washington Conservatory Players – Professional ensemble for external performances \nApplication Deadline: August 25\, 2025 \nEligibility: Open to qualified conductors with experience or education in orchestral direction. \nApplication Form: washingtonconservatory.org/apply2conduct \nContact: etonea@washingtonconservatory.org \nDon’t miss your chance to be part of the Washington Conservatory legacy and contribute to our dynamic performance community. \n								\n									APPLY NOW
URL:https://washingtonconservatory.org/event/apply2conduct/
LOCATION:Washington Conservatory of Music Campus at Glen Echo Park\, 7300 Macarthur Blvd\, Bethesda\, MD\, United States
CATEGORIES:Accord Symphony Orchestra,Auditions,Chamber Music Coaching for Pre-Formed Ensembles,Ensembles,Special Events,Washington Conservatory Orchestra
ATTACH;FMTTYPE=image/png:https://washingtonconservatory.org/wp-content/uploads/2025/06/Assistant-Conductors-Auditions-Digital.png
END:VEVENT
BEGIN:VEVENT
DTSTART;TZID=America/New_York:20250801T190000
DTEND;TZID=America/New_York:20250801T190000
DTSTAMP:20260421T060230
CREATED:20250617T154652Z
LAST-MODIFIED:20250703T141831Z
UID:17466-1754074800-1754074800@washingtonconservatory.org
SUMMARY:Jazz in the Bach Room - Art Walk @ Glen Echo Park
DESCRIPTION:Reserve Your Spot\n					 \nGlen Echo Park Art Walk: Jazz Concert \nCome join us for a delightful evening of music at Glen Echo Park! Our Jazz Concert is the perfect way to unwind and enjoy some smooth tunes in a beautiful setting. Stroll through the park\, take in the artwork\, and then settle in for some toe-tapping jazz. Whether you’re a jazz aficionado or just looking for a fun night out\, this event is sure to please. Don’t miss out on this fantastic opportunity to experience live music in person! \nFeaturing:🎷 Marty Nau\, saxophone (WCM Faculty Member)🎹 Robert Redd\, piano🎸 Tommy Cecil\, bass \nEnjoy a rich blend of jazz standards and spontaneous improvisation as you explore open artist studios\, gallery exhibits\, and live demonstrations throughout the park. \nPresented in partnership with the Glen Echo Park Partnership for Arts and Culture \n🎟️ Free and open to all ages — donations appreciated. \n								\n									Reserve Your Spot
URL:https://washingtonconservatory.org/event/jazz-in-the-bach-room/
LOCATION:Washington Conservatory of Music Campus at Glen Echo Park\, 7300 Macarthur Blvd\, Bethesda\, MD\, United States
CATEGORIES:Concerts,Special Events,WC Jazz Players
ATTACH;FMTTYPE=image/png:https://washingtonconservatory.org/wp-content/uploads/2025/06/080125-Print-Flyer-Art-Walk-Jazz-in-the-Park.png
END:VEVENT
BEGIN:VEVENT
DTSTART;TZID=America/New_York:20250810T150000
DTEND;TZID=America/New_York:20250810T150000
DTSTAMP:20260421T060230
CREATED:20250707T163527Z
LAST-MODIFIED:20250826T153828Z
UID:17607-1754838000-1754838000@washingtonconservatory.org
SUMMARY:WIPAC: 25th Anniversary Celebration/concerto competition winners
DESCRIPTION:A Standing Ovation at the Embassy of China
URL:https://washingtonconservatory.org/event/wipac-25th-anniversary-celebration-concerto-competition-winners/
LOCATION:Chinese Embassy
CATEGORIES:Concerts,Performance Series,WC Orchestra Players
ATTACH;FMTTYPE=image/jpeg:https://washingtonconservatory.org/wp-content/uploads/2025/08/WCO-A7407573-scaled.jpg
END:VEVENT
BEGIN:VEVENT
DTSTART;TZID=America/New_York:20250817T140000
DTEND;TZID=America/New_York:20250817T150000
DTSTAMP:20260421T060230
CREATED:20241226T212511Z
LAST-MODIFIED:20250422T160540Z
UID:16113-1755439200-1755442800@washingtonconservatory.org
SUMMARY:Monthly Student Recital
DESCRIPTION:
URL:https://washingtonconservatory.org/event/monthly-student-recital-8/
CATEGORIES:Student Recitals
END:VEVENT
BEGIN:VEVENT
DTSTART;TZID=America/New_York:20250823T130000
DTEND;TZID=America/New_York:20250823T160000
DTSTAMP:20260421T060230
CREATED:20250728T223949Z
LAST-MODIFIED:20250807T163048Z
UID:17690-1755954000-1755964800@washingtonconservatory.org
SUMMARY:Open House at Glen Echo Park
DESCRIPTION:Register\n \nYou’re invited to a fun and informative afternoon celebrating music\, community\, and the start of a new season at the Washington Conservatory of Music! \nWhat to Expect: \n\nKaraoke for Everyone\nPercussion for Kids with demo instruction from faculty\nArts & Crafts\nGrab a bite from a local food truck\n\nWhether you’re considering lessons for yourself or your child—or just want to enjoy a musical afternoon in the park—we’d love to meet you! \n🎟️ Free and open to the public. Register at the front desk \n\nRegister
URL:https://washingtonconservatory.org/event/open-house/
LOCATION:Washington Conservatory of Music Campus at Glen Echo Park\, 7300 Macarthur Blvd\, Bethesda\, MD\, United States
CATEGORIES:Camps,Classes,Community Engagement,Concerts,Special Events,Workshops
ATTACH;FMTTYPE=image/png:https://washingtonconservatory.org/wp-content/uploads/2025/07/WCM-Print-Flyers.png
END:VEVENT
END:VCALENDAR